BEGIN:VCALENDAR
VERSION:2.0
PRODID:-//The Ontario Historical Society - ECPv6.15.20//NONSGML v1.0//EN
CALSCALE:GREGORIAN
METHOD:PUBLISH
X-ORIGINAL-URL:https://ontariohistoricalsociety.ca
X-WR-CALDESC:Events for The Ontario Historical Society
REFRESH-INTERVAL;VALUE=DURATION:PT1H
X-Robots-Tag:noindex
X-PUBLISHED-TTL:PT1H
BEGIN:VTIMEZONE
TZID:America/Toronto
BEGIN:DAYLIGHT
TZOFFSETFROM:-0500
TZOFFSETTO:-0400
TZNAME:EDT
DTSTART:20180311T070000
END:DAYLIGHT
BEGIN:STANDARD
TZOFFSETFROM:-0400
TZOFFSETTO:-0500
TZNAME:EST
DTSTART:20181104T060000
END:STANDARD
BEGIN:DAYLIGHT
TZOFFSETFROM:-0500
TZOFFSETTO:-0400
TZNAME:EDT
DTSTART:20190310T070000
END:DAYLIGHT
BEGIN:STANDARD
TZOFFSETFROM:-0400
TZOFFSETTO:-0500
TZNAME:EST
DTSTART:20191103T060000
END:STANDARD
BEGIN:DAYLIGHT
TZOFFSETFROM:-0500
TZOFFSETTO:-0400
TZNAME:EDT
DTSTART:20200308T070000
END:DAYLIGHT
BEGIN:STANDARD
TZOFFSETFROM:-0400
TZOFFSETTO:-0500
TZNAME:EST
DTSTART:20201101T060000
END:STANDARD
BEGIN:DAYLIGHT
TZOFFSETFROM:-0500
TZOFFSETTO:-0400
TZNAME:EDT
DTSTART:20210314T070000
END:DAYLIGHT
BEGIN:STANDARD
TZOFFSETFROM:-0400
TZOFFSETTO:-0500
TZNAME:EST
DTSTART:20211107T060000
END:STANDARD
BEGIN:DAYLIGHT
TZOFFSETFROM:-0500
TZOFFSETTO:-0400
TZNAME:EDT
DTSTART:20220313T070000
END:DAYLIGHT
BEGIN:STANDARD
TZOFFSETFROM:-0400
TZOFFSETTO:-0500
TZNAME:EST
DTSTART:20221106T060000
END:STANDARD
BEGIN:DAYLIGHT
TZOFFSETFROM:-0500
TZOFFSETTO:-0400
TZNAME:EDT
DTSTART:20230312T070000
END:DAYLIGHT
BEGIN:STANDARD
TZOFFSETFROM:-0400
TZOFFSETTO:-0500
TZNAME:EST
DTSTART:20231105T060000
END:STANDARD
BEGIN:DAYLIGHT
TZOFFSETFROM:-0500
TZOFFSETTO:-0400
TZNAME:EDT
DTSTART:20240310T070000
END:DAYLIGHT
BEGIN:STANDARD
TZOFFSETFROM:-0400
TZOFFSETTO:-0500
TZNAME:EST
DTSTART:20241103T060000
END:STANDARD
BEGIN:DAYLIGHT
TZOFFSETFROM:-0500
TZOFFSETTO:-0400
TZNAME:EDT
DTSTART:20250309T070000
END:DAYLIGHT
BEGIN:STANDARD
TZOFFSETFROM:-0400
TZOFFSETTO:-0500
TZNAME:EST
DTSTART:20251102T060000
END:STANDARD
BEGIN:DAYLIGHT
TZOFFSETFROM:-0500
TZOFFSETTO:-0400
TZNAME:EDT
DTSTART:20260308T070000
END:DAYLIGHT
BEGIN:STANDARD
TZOFFSETFROM:-0400
TZOFFSETTO:-0500
TZNAME:EST
DTSTART:20261101T060000
END:STANDARD
BEGIN:DAYLIGHT
TZOFFSETFROM:-0500
TZOFFSETTO:-0400
TZNAME:EDT
DTSTART:20270314T070000
END:DAYLIGHT
BEGIN:STANDARD
TZOFFSETFROM:-0400
TZOFFSETTO:-0500
TZNAME:EST
DTSTART:20271107T060000
END:STANDARD
END:VTIMEZONE
BEGIN:VEVENT
DTSTART;TZID=America/Toronto:20260211T190000
DTEND;TZID=America/Toronto:20260211T190000
DTSTAMP:20260421T062332
CREATED:20260108T203747Z
LAST-MODIFIED:20260108T203747Z
UID:10001665-1770836400-1770836400@ontariohistoricalsociety.ca
SUMMARY:Esquesing Historical Society: From Kensington Palace to Glen Williams
DESCRIPTION:Historian Mark Rowe will highlight his new book\, Kissed by Two Kings\, the story of his 3x Great-grandmother and extend the story to his branch of the family and how he ended up in Glen Williams. This presentation will be preceded by our Annual General Meeting. \nKNOX PRESBYTERIAN CHURCH\, 116 Main St.\, S.\, Georgetown\, 7:00 p.m. 
URL:https://ontariohistoricalsociety.ca/event/esquesing-historical-society-from-kensington-palace-to-glen-williams/
LOCATION:Knox Presbyterian Church\, 116 Main St. S.\, Georgetown\, ON\, L7G 3E6\, Canada
ORGANIZER;CN="Esquesing Historical Society":MAILTO:esquesinghs@gmail.com
GEO:43.6485314;-79.9253678
X-APPLE-STRUCTURED-LOCATION;VALUE=URI;X-ADDRESS=Knox Presbyterian Church 116 Main St. S. Georgetown ON L7G 3E6 Canada;X-APPLE-RADIUS=500;X-TITLE=116 Main St. S.:geo:-79.9253678,43.6485314
END:VEVENT
BEGIN:VEVENT
DTSTART;TZID=America/Toronto:20260114T190000
DTEND;TZID=America/Toronto:20260114T190000
DTSTAMP:20260421T062332
CREATED:20260108T203406Z
LAST-MODIFIED:20260108T203406Z
UID:10001664-1768417200-1768417200@ontariohistoricalsociety.ca
SUMMARY:Esquesing Historical Society: Heritage Halton Hills
DESCRIPTION:Heritage Halton Hills has continued their designation work throughout Halton Hills. Heritage Halton Hills members John Mark Rowe and Ray Denny will provide updates on the 2025 designated buildings in Halton Hills. \nKnox Presbyterian Church\, 116 Main St. S.\, Georgetown\, ON 7:00
URL:https://ontariohistoricalsociety.ca/event/esquesing-historical-society-heritage-halton-hills/
LOCATION:Knox Presbyterian Church\, 116 Main St. S.\, Georgetown\, ON\, L7G 3E6\, Canada
ORGANIZER;CN="Esquesing Historical Society":MAILTO:esquesinghs@gmail.com
GEO:43.6485314;-79.9253678
X-APPLE-STRUCTURED-LOCATION;VALUE=URI;X-ADDRESS=Knox Presbyterian Church 116 Main St. S. Georgetown ON L7G 3E6 Canada;X-APPLE-RADIUS=500;X-TITLE=116 Main St. S.:geo:-79.9253678,43.6485314
END:VEVENT
BEGIN:VEVENT
DTSTART;TZID=America/Toronto:20240110T190000
DTEND;TZID=America/Toronto:20240110T190000
DTSTAMP:20260421T062332
CREATED:20230906T155128Z
LAST-MODIFIED:20230906T155128Z
UID:10001126-1704913200-1704913200@ontariohistoricalsociety.ca
SUMMARY:Esquesing Historical Society: Halton Hills: The Sum of Its Parts
DESCRIPTION:
URL:https://ontariohistoricalsociety.ca/event/esquesing-historical-society-halton-hills-the-sum-of-its-parts/
LOCATION:Helson Gallery\, Church Street 9\, Halton Hills\, Ontario\, L7G 2A3\, Canada
ORGANIZER;CN="Esquesing Historical Society":MAILTO:esquesinghs@gmail.com
GEO:43.6481421;-79.9255228
X-APPLE-STRUCTURED-LOCATION;VALUE=URI;X-ADDRESS=Helson Gallery Church Street 9 Halton Hills Ontario L7G 2A3 Canada;X-APPLE-RADIUS=500;X-TITLE=Church Street 9:geo:-79.9255228,43.6481421
END:VEVENT
BEGIN:VEVENT
DTSTART;TZID=America/Toronto:20231108T190000
DTEND;TZID=America/Toronto:20231108T190000
DTSTAMP:20260421T062332
CREATED:20230906T154907Z
LAST-MODIFIED:20230906T154907Z
UID:10001125-1699470000-1699470000@ontariohistoricalsociety.ca
SUMMARY:Esquesing Historical Society: A Short History of the Lorne Scots Regiment
DESCRIPTION:The Lorne Scots (Peel\, Dufferin\, & Halton Regiment)\, the local Militia (Army Reserves) regiment has served Canada and the local community since before Confederation. While its official birthday is in September 1866\, its history predates the War of 1812. A company of the regiment has been in Georgetown since 1863 and has included many residents who have served in war and peace. Charles Veale will present the history of the regiment starting with the 1793 Milita Act and continuing to the COVID-19 Pandemic and will touch on a few more recent developments.
URL:https://ontariohistoricalsociety.ca/event/esquesing-historical-society-a-short-history-of-the-lorne-scots-regiment/
LOCATION:Knox Presbyterian Church\, 116 Main St. S.\, Georgetown\, ON\, L7G 3E6\, Canada
ORGANIZER;CN="Esquesing Historical Society":MAILTO:esquesinghs@gmail.com
GEO:43.6485314;-79.9253678
X-APPLE-STRUCTURED-LOCATION;VALUE=URI;X-ADDRESS=Knox Presbyterian Church 116 Main St. S. Georgetown ON L7G 3E6 Canada;X-APPLE-RADIUS=500;X-TITLE=116 Main St. S.:geo:-79.9253678,43.6485314
END:VEVENT
BEGIN:VEVENT
DTSTART;TZID=America/Toronto:20231011T190000
DTEND;TZID=America/Toronto:20231011T190000
DTSTAMP:20260421T062332
CREATED:20230906T154735Z
LAST-MODIFIED:20230906T154735Z
UID:10001124-1697050800-1697050800@ontariohistoricalsociety.ca
SUMMARY:Esquesing Historical Society: Builders of North Halton: MacKenzie Family
DESCRIPTION:Sandy Mackenzie will be sure to share some tales about his family as the EHS provides a slide show of pictures from the Archives. No study of buildings in Acton and Georgetown can be complete without knowing about J.B. Mackenzie and family.
URL:https://ontariohistoricalsociety.ca/event/esquesing-historical-society-builders-of-north-halton-mackenzie-family/
LOCATION:Knox Presbyterian Church\, 116 Main St. S.\, Georgetown\, ON\, L7G 3E6\, Canada
ORGANIZER;CN="Esquesing Historical Society":MAILTO:esquesinghs@gmail.com
GEO:43.6485314;-79.9253678
X-APPLE-STRUCTURED-LOCATION;VALUE=URI;X-ADDRESS=Knox Presbyterian Church 116 Main St. S. Georgetown ON L7G 3E6 Canada;X-APPLE-RADIUS=500;X-TITLE=116 Main St. S.:geo:-79.9253678,43.6485314
END:VEVENT
BEGIN:VEVENT
DTSTART;TZID=America/Toronto:20231004T180000
DTEND;TZID=America/Toronto:20231004T180000
DTSTAMP:20260421T062332
CREATED:20230906T154556Z
LAST-MODIFIED:20230906T154556Z
UID:10001123-1696442400-1696442400@ontariohistoricalsociety.ca
SUMMARY:Esquesing Historical Society: Georgetown Walking Tour
DESCRIPTION:Halton Hills Library are pleased to invite you to join local historian John Mark Rowe for an hour-long walking tour of downtown Georgetown.
URL:https://ontariohistoricalsociety.ca/event/esquesing-historical-society-georgetown-walking-tour/
LOCATION:Halton Hills Public Library Plaza\, Church Street 8\, Halton Hills\, Ontario\, L7G 2A2\, Canada
ORGANIZER;CN="Esquesing Historical Society":MAILTO:esquesinghs@gmail.com
GEO:43.6485843;-79.9258757
X-APPLE-STRUCTURED-LOCATION;VALUE=URI;X-ADDRESS=Halton Hills Public Library Plaza Church Street 8 Halton Hills Ontario L7G 2A2 Canada;X-APPLE-RADIUS=500;X-TITLE=Church Street 8:geo:-79.9258757,43.6485843
END:VEVENT
BEGIN:VEVENT
DTSTART;TZID=America/Toronto:20230913T190000
DTEND;TZID=America/Toronto:20230913T190000
DTSTAMP:20260421T062332
CREATED:20230526T183812Z
LAST-MODIFIED:20230526T183812Z
UID:10001009-1694631600-1694631600@ontariohistoricalsociety.ca
SUMMARY:Esquesing Historical Society: Toronto Suburban Railway Walk
DESCRIPTION:The meeting place will be the George Kennedy Mural\, Mill & Back Streets\, Georgetown.
URL:https://ontariohistoricalsociety.ca/event/esquesing-historical-society-toronto-suburban-railway-walk/
LOCATION:George Kennedy Mural\, 26 Guelph St.\, Georgetown\, Ontario\, L7G 3Z5\, Canada
ORGANIZER;CN="Esquesing Historical Society":MAILTO:esquesinghs@gmail.com
GEO:43.6510992;-79.9247576
X-APPLE-STRUCTURED-LOCATION;VALUE=URI;X-ADDRESS=George Kennedy Mural 26 Guelph St. Georgetown Ontario L7G 3Z5 Canada;X-APPLE-RADIUS=500;X-TITLE=26 Guelph St.:geo:-79.9247576,43.6510992
END:VEVENT
BEGIN:VEVENT
DTSTART;TZID=America/Toronto:20230701T100000
DTEND;TZID=America/Toronto:20230701T100000
DTSTAMP:20260421T062332
CREATED:20230526T183349Z
LAST-MODIFIED:20230526T183349Z
UID:10001008-1688205600-1688205600@ontariohistoricalsociety.ca
SUMMARY:Esquesing Historical Society: Glen Williams Walking Tour
DESCRIPTION:Kick off Canada Day with a morning stroll through the village of Glen Williams with local historian Mark Rowe. The tour will conclude with plenty of time to secure a good spot to watch the noon parade through the village.
URL:https://ontariohistoricalsociety.ca/event/esquesing-historical-society-glen-williams-walking-tour-07-01-23/
LOCATION:Williams Mill Parking Lot\, 515 Main St.\, Georgetown\, Ontario\, L7G 3S9
ORGANIZER;CN="Esquesing Historical Society":MAILTO:esquesinghs@gmail.com
GEO:43.6697935;-79.9261349
X-APPLE-STRUCTURED-LOCATION;VALUE=URI;X-ADDRESS=Williams Mill Parking Lot 515 Main St. Georgetown Ontario L7G 3S9;X-APPLE-RADIUS=500;X-TITLE=515 Main St.:geo:-79.9261349,43.6697935
END:VEVENT
BEGIN:VEVENT
DTSTART;TZID=America/Toronto:20230614T183000
DTEND;TZID=America/Toronto:20230614T183000
DTSTAMP:20260421T062332
CREATED:20230526T182959Z
LAST-MODIFIED:20230526T182959Z
UID:10001007-1686767400-1686767400@ontariohistoricalsociety.ca
SUMMARY:Esquesing Historical Society: Glen Williams Walking Tour
DESCRIPTION:Local historian\, Mark Rowe\, brings the society back to the Glen for an evening walking tour. Unlike earlier tours we will begin at the Beaumont Mill Antiques building. This walk will include climbing a hill so wear your runners!
URL:https://ontariohistoricalsociety.ca/event/esquesing-historical-society-glen-williams-walking-tour-06-14-23/
LOCATION:Beaumont Mill Antiques & Collectibles\, 586 Main St.\, Georgetown\, Ontario\, L7G 3T6\, Canada
ORGANIZER;CN="Esquesing Historical Society":MAILTO:esquesinghs@gmail.com
GEO:43.6768012;-79.9290205
X-APPLE-STRUCTURED-LOCATION;VALUE=URI;X-ADDRESS=Beaumont Mill Antiques & Collectibles 586 Main St. Georgetown Ontario L7G 3T6 Canada;X-APPLE-RADIUS=500;X-TITLE=586 Main St.:geo:-79.9290205,43.6768012
END:VEVENT
BEGIN:VEVENT
DTSTART;TZID=America/Toronto:20230412T190000
DTEND;TZID=America/Toronto:20230412T190000
DTSTAMP:20260421T062332
CREATED:20230110T160418Z
LAST-MODIFIED:20230110T160418Z
UID:10000850-1681326000-1681326000@ontariohistoricalsociety.ca
SUMMARY:Esquesing Historical Society April Meeting: The Coronation
DESCRIPTION:In preparation for the May 6th Coronation of our King and Queen\, the EHS is preparing a presentation on Coronation activities in this area from the past. We even have home movies of the Georgetown Coronation Parade. Please join us and bring your Coronation Day memories. If you have film of an event\, contact us to have it digitized and included in our presentation.
URL:https://ontariohistoricalsociety.ca/event/esquesing-historical-society-april-meeting-the-coronation/
LOCATION:The Studio\, Halton Hills Cultural Centre\, 9 Church St.\, Georgetown\, Ontario\, L7G 2A3
ORGANIZER;CN="Esquesing Historical Society":MAILTO:esquesinghs@gmail.com
GEO:43.6481421;-79.9255228
X-APPLE-STRUCTURED-LOCATION;VALUE=URI;X-ADDRESS=The Studio Halton Hills Cultural Centre 9 Church St. Georgetown Ontario L7G 2A3;X-APPLE-RADIUS=500;X-TITLE=9 Church St.:geo:-79.9255228,43.6481421
END:VEVENT
BEGIN:VEVENT
DTSTART;TZID=America/Toronto:20230208T190000
DTEND;TZID=America/Toronto:20230208T190000
DTSTAMP:20260421T062332
CREATED:20230110T160243Z
LAST-MODIFIED:20230110T160306Z
UID:10000849-1675882800-1675882800@ontariohistoricalsociety.ca
SUMMARY:Esquesing Historical Society February Meeting: Eaton Family
DESCRIPTION:Dave Bartlett\, who started bottle collecting in the early 70’s\, found one of the first sealer bottles he received was an Eaton’s Sealer Jar. This led him to learn and collect more information about Eaton’s Canada. During the early part of the 1900’s it was the lifeline for rural Canada to grow and develop. Rural Canada depended on Eaton’s. Dave has collected books and items of interest from Eaton’s and he realized how important they were to the small towns across Canada. Dave joins us to share his presentation.
URL:https://ontariohistoricalsociety.ca/event/esquesing-historical-society-february-meeting-eaton-family/
LOCATION:The Studio\, Halton Hills Cultural Centre\, 9 Church St.\, Georgetown\, Ontario\, L7G 2A3
ORGANIZER;CN="Esquesing Historical Society":MAILTO:esquesinghs@gmail.com
GEO:43.6481421;-79.9255228
X-APPLE-STRUCTURED-LOCATION;VALUE=URI;X-ADDRESS=The Studio Halton Hills Cultural Centre 9 Church St. Georgetown Ontario L7G 2A3;X-APPLE-RADIUS=500;X-TITLE=9 Church St.:geo:-79.9255228,43.6481421
END:VEVENT
BEGIN:VEVENT
DTSTART;TZID=America/Toronto:20230111T190000
DTEND;TZID=America/Toronto:20230111T190000
DTSTAMP:20260421T062332
CREATED:20230110T160038Z
LAST-MODIFIED:20230110T160038Z
UID:10000848-1673463600-1673463600@ontariohistoricalsociety.ca
SUMMARY:Esquesing Historical Society January Meeting: Heritage Halton Hills
DESCRIPTION:Since last January\, Heritage Halton Hills has continued their designation work. Heritage Halton Hills members John Mark Rowe and Ray Denny will provide updates on the recently designated buildings in Halton Hills and discuss pending designations.
URL:https://ontariohistoricalsociety.ca/event/esquesing-historical-society-january-meeting-heritage-halton-hills/
LOCATION:The Studio\, Halton Hills Cultural Centre\, 9 Church St.\, Georgetown\, Ontario\, L7G 2A3
ORGANIZER;CN="Esquesing Historical Society":MAILTO:esquesinghs@gmail.com
GEO:43.6481421;-79.9255228
X-APPLE-STRUCTURED-LOCATION;VALUE=URI;X-ADDRESS=The Studio Halton Hills Cultural Centre 9 Church St. Georgetown Ontario L7G 2A3;X-APPLE-RADIUS=500;X-TITLE=9 Church St.:geo:-79.9255228,43.6481421
END:VEVENT
BEGIN:VEVENT
DTSTART;TZID=America/Toronto:20220209T193000
DTEND;TZID=America/Toronto:20220209T193000
DTSTAMP:20260421T062332
CREATED:20220114T171349Z
LAST-MODIFIED:20220114T171349Z
UID:10000452-1644435000-1644435000@ontariohistoricalsociety.ca
SUMMARY:Esquesing Historical Society February Meeting: Churches and Schools
DESCRIPTION:In reviewing the last 1800 photograph accessions\, EHS Archivist John Mark Rowe noticed a preponderance of photos – new and old – related to the churches and schools of Esquesing\, Georgetown and Acton. Mr. Rowe will show these photos with a little background about the buildings and their occupants. \nNOTE: The February meeting will be pre-recorded and posted on the EHS website under “meetings” if restrictions due to the pandemic continue to prohibit our in-person meeting. Otherwise\, our usual place and time will prevail. Please bring proof of vaccine\, ID and wear your mask. No refreshments will be served.
URL:https://ontariohistoricalsociety.ca/event/esquesing-historical-society-february-meeting-churches-and-schools/
LOCATION:Knox Presbyterian Church\, 116 Main St. S.\, Georgetown\, ON\, L7G 3E6\, Canada
ORGANIZER;CN="Esquesing Historical Society":MAILTO:esquesinghs@gmail.com
GEO:43.6485314;-79.9253678
X-APPLE-STRUCTURED-LOCATION;VALUE=URI;X-ADDRESS=Knox Presbyterian Church 116 Main St. S. Georgetown ON L7G 3E6 Canada;X-APPLE-RADIUS=500;X-TITLE=116 Main St. S.:geo:-79.9253678,43.6485314
END:VEVENT
BEGIN:VEVENT
DTSTART;TZID=America/Toronto:20220112T193000
DTEND;TZID=America/Toronto:20220112T193000
DTSTAMP:20260421T062332
CREATED:20211109T201518Z
LAST-MODIFIED:20211109T201518Z
UID:10000413-1642015800-1642015800@ontariohistoricalsociety.ca
SUMMARY:Esquesing Historical Society January Meeting: Limehouse Heritage
DESCRIPTION:Heritage Halton Hills members John Mark Rowe and Ray Denny will update members on the latest Heritage endeavours and will focus on heritage in Limehouse\, especially recent designations.
URL:https://ontariohistoricalsociety.ca/event/esquesing-historical-society-january-meeting-limehouse-heritage/
LOCATION:Knox Presbyterian Church\, 116 Main St. S.\, Georgetown\, ON\, L7G 3E6\, Canada
ORGANIZER;CN="Esquesing Historical Society":MAILTO:esquesinghs@gmail.com
GEO:43.6485314;-79.9253678
X-APPLE-STRUCTURED-LOCATION;VALUE=URI;X-ADDRESS=Knox Presbyterian Church 116 Main St. S. Georgetown ON L7G 3E6 Canada;X-APPLE-RADIUS=500;X-TITLE=116 Main St. S.:geo:-79.9253678,43.6485314
END:VEVENT
BEGIN:VEVENT
DTSTART;TZID=America/Toronto:20201111T193000
DTEND;TZID=America/Toronto:20201111T193000
DTSTAMP:20260421T062332
CREATED:20200505T141755Z
LAST-MODIFIED:20200505T141755Z
UID:10000139-1605123000-1605123000@ontariohistoricalsociety.ca
SUMMARY:Esquesing HS November 2020 Meeting: Memorials to Military Service
DESCRIPTION:Richard Ruggle\, local historian\, will attend our Remembrance Day meeting to share with us examples and stories connected with the memorials dedicated to those in our military who served our country.
URL:https://ontariohistoricalsociety.ca/event/esquesing-hs-november-2020-meeting-memorials-to-military-service/
LOCATION:Knox Presbyterian Church\, 116 Main St. S.\, Georgetown\, ON\, L7G 3E6\, Canada
ATTACH;FMTTYPE=image/jpeg:https://ontariohistoricalsociety.ca/wp-content/uploads/2019/09/Esquesing-HS-Logo.jpg
ORGANIZER;CN="Esquesing Historical Society":MAILTO:esquesinghs@gmail.com
GEO:43.6485314;-79.9253678
X-APPLE-STRUCTURED-LOCATION;VALUE=URI;X-ADDRESS=Knox Presbyterian Church 116 Main St. S. Georgetown ON L7G 3E6 Canada;X-APPLE-RADIUS=500;X-TITLE=116 Main St. S.:geo:-79.9253678,43.6485314
END:VEVENT
BEGIN:VEVENT
DTSTART;TZID=America/Toronto:20201020T193000
DTEND;TZID=America/Toronto:20201020T193000
DTSTAMP:20260421T062332
CREATED:20200505T141435Z
LAST-MODIFIED:20200505T141435Z
UID:10000140-1603222200-1603222200@ontariohistoricalsociety.ca
SUMMARY:Esquesing HS October 2020 Meeting: Playgrounds of Halton
DESCRIPTION:Bill McIlveen will explore the myriad entertainment choices open to residents of  Halton over the years. From swimming and dancing to drag racing and the steam era\, Halton has offered many diverse and entertaining options for residents.
URL:https://ontariohistoricalsociety.ca/event/esquesing-hs-october-2020-meeting-playgrounds-of-halton/
LOCATION:Knox Presbyterian Church\, 116 Main St. S.\, Georgetown\, ON\, L7G 3E6\, Canada
ATTACH;FMTTYPE=image/jpeg:https://ontariohistoricalsociety.ca/wp-content/uploads/2019/09/Esquesing-HS-Logo.jpg
ORGANIZER;CN="Esquesing Historical Society":MAILTO:esquesinghs@gmail.com
GEO:43.6485314;-79.9253678
X-APPLE-STRUCTURED-LOCATION;VALUE=URI;X-ADDRESS=Knox Presbyterian Church 116 Main St. S. Georgetown ON L7G 3E6 Canada;X-APPLE-RADIUS=500;X-TITLE=116 Main St. S.:geo:-79.9253678,43.6485314
END:VEVENT
BEGIN:VEVENT
DTSTART;TZID=America/Toronto:20200909T193000
DTEND;TZID=America/Toronto:20200909T193000
DTSTAMP:20260421T062332
CREATED:20200505T141154Z
LAST-MODIFIED:20200505T141154Z
UID:10000138-1599679800-1599679800@ontariohistoricalsociety.ca
SUMMARY:Esquesing HS September 2020 Meeting: Halton County Courthouse and Gaol
DESCRIPTION:John McDonald\, local historian\, returns to share his latest research. His PowerPoint presentation will tell the fascinating story about the people and events involving Halton County’s Courthouse and Gaol. Some of the major trials held in Halton\, and public hangings that took place\, will also be discussed.
URL:https://ontariohistoricalsociety.ca/event/esquesing-hs-september-2020-meeting-halton-county-courthouse-and-gaol/
LOCATION:Knox Presbyterian Church\, 116 Main St. S.\, Georgetown\, ON\, L7G 3E6\, Canada
ATTACH;FMTTYPE=image/jpeg:https://ontariohistoricalsociety.ca/wp-content/uploads/2019/09/Esquesing-HS-Logo.jpg
ORGANIZER;CN="Esquesing Historical Society":MAILTO:esquesinghs@gmail.com
GEO:43.6485314;-79.9253678
X-APPLE-STRUCTURED-LOCATION;VALUE=URI;X-ADDRESS=Knox Presbyterian Church 116 Main St. S. Georgetown ON L7G 3E6 Canada;X-APPLE-RADIUS=500;X-TITLE=116 Main St. S.:geo:-79.9253678,43.6485314
END:VEVENT
BEGIN:VEVENT
DTSTART;TZID=America/Toronto:20200311T193000
DTEND;TZID=America/Toronto:20200311T193000
DTSTAMP:20260421T062332
CREATED:20191112T201747Z
LAST-MODIFIED:20191112T201747Z
UID:10000112-1583955000-1583955000@ontariohistoricalsociety.ca
SUMMARY:Esquesing HS March 2020 Meeting: A Shadow of its Former Self - Mono Mills in the 19th Century
DESCRIPTION:Today Mono Mills is a small hamlet that barely garners the attention of those who pass through. However\, in the 19th century Mono Mills was a busy village that played an instrumental role in the settlement of the Headwaters Region. This talk will trace the history of Mono Mills from its origins in 1819 to its decline in the 1890s\, stopping at all the colourful moments along the way.
URL:https://ontariohistoricalsociety.ca/event/esquesing-hs-march-2020-meeting-a-shadow-of-its-former-self-mono-mills-in-the-19th-century/
LOCATION:Knox Presbyterian Church\, 116 Main St. S.\, Georgetown\, ON\, L7G 3E6\, Canada
ATTACH;FMTTYPE=image/jpeg:https://ontariohistoricalsociety.ca/wp-content/uploads/2019/09/Esquesing-HS-Logo.jpg
ORGANIZER;CN="Esquesing Historical Society":MAILTO:esquesinghs@gmail.com
GEO:43.6485314;-79.9253678
X-APPLE-STRUCTURED-LOCATION;VALUE=URI;X-ADDRESS=Knox Presbyterian Church 116 Main St. S. Georgetown ON L7G 3E6 Canada;X-APPLE-RADIUS=500;X-TITLE=116 Main St. S.:geo:-79.9253678,43.6485314
END:VEVENT
BEGIN:VEVENT
DTSTART;TZID=America/Toronto:20200212T193000
DTEND;TZID=America/Toronto:20200212T193000
DTSTAMP:20260421T062332
CREATED:20191112T201417Z
LAST-MODIFIED:20191112T201417Z
UID:10000113-1581535800-1581535800@ontariohistoricalsociety.ca
SUMMARY:Esquesing HS February 2020 Meeting: Vintage Acton - The Calendar Collection
DESCRIPTION:Anne McIntyre will present slides and stories from a historical book published this year to celebrate the 175th anniversary of the naming of Acton. “Vintage Acton: The Calendar Collection” was created on behalf of Heritage Acton drawing on the articles written for their annual historical calendar for the years 2003 to 2019. Anne is looking forward to the sharing of stories from those who are able to attend.
URL:https://ontariohistoricalsociety.ca/event/esquesing-hs-february-2020-meeting-vintage-acton-the-calendar-collection/
LOCATION:Knox Presbyterian Church\, 116 Main St. S.\, Georgetown\, ON\, L7G 3E6\, Canada
ATTACH;FMTTYPE=image/jpeg:https://ontariohistoricalsociety.ca/wp-content/uploads/2019/09/Esquesing-HS-Logo.jpg
ORGANIZER;CN="Esquesing Historical Society":MAILTO:esquesinghs@gmail.com
GEO:43.6485314;-79.9253678
X-APPLE-STRUCTURED-LOCATION;VALUE=URI;X-ADDRESS=Knox Presbyterian Church 116 Main St. S. Georgetown ON L7G 3E6 Canada;X-APPLE-RADIUS=500;X-TITLE=116 Main St. S.:geo:-79.9253678,43.6485314
END:VEVENT
BEGIN:VEVENT
DTSTART;TZID=America/Toronto:20200108T193000
DTEND;TZID=America/Toronto:20200108T193000
DTSTAMP:20260421T062332
CREATED:20191112T200922Z
LAST-MODIFIED:20191112T200947Z
UID:10000108-1578511800-1578511800@ontariohistoricalsociety.ca
SUMMARY:Esquesing HS January 2020 Meeting: Your Cyberspace Historical Tour
DESCRIPTION:Catherine McLeod\, Senior Arts and Culture Specialist with the Town of Halton Hills\, will present on the Town’s new self-guided tour program\, “Discover the Hills.” Pilot tours of Glen Williams and Acton will be presented for discussion and input.
URL:https://ontariohistoricalsociety.ca/event/esquesing-hs-january-2020-meeting-your-cyberspace-historical-tour/
LOCATION:Knox Presbyterian Church\, 116 Main St. S.\, Georgetown\, ON\, L7G 3E6\, Canada
ATTACH;FMTTYPE=image/jpeg:https://ontariohistoricalsociety.ca/wp-content/uploads/2019/09/Esquesing-HS-Logo.jpg
ORGANIZER;CN="Esquesing Historical Society":MAILTO:esquesinghs@gmail.com
GEO:43.6485314;-79.9253678
X-APPLE-STRUCTURED-LOCATION;VALUE=URI;X-ADDRESS=Knox Presbyterian Church 116 Main St. S. Georgetown ON L7G 3E6 Canada;X-APPLE-RADIUS=500;X-TITLE=116 Main St. S.:geo:-79.9253678,43.6485314
END:VEVENT
BEGIN:VEVENT
DTSTART;TZID=America/Toronto:20191113T193000
DTEND;TZID=America/Toronto:20191113T193000
DTSTAMP:20260421T062332
CREATED:20190909T185706Z
LAST-MODIFIED:20191112T200650Z
UID:10000082-1573673400-1573673400@ontariohistoricalsociety.ca
SUMMARY:Esquesing HS November 2019 Meeting: Events That Changed Esquesing Township
DESCRIPTION:Six executive members of the EHS will explore changes that affected the people of Esquesing over the past 200 years of our history. The topics will be government\, transportation\, communication\, utilities\, education and the Esquesing Historical Society!
URL:https://ontariohistoricalsociety.ca/event/esquesing-hs-november-2019-meeting-events-that-changed-esquesing-township/
LOCATION:Knox Presbyterian Church\, 116 Main St. S.\, Georgetown\, ON\, L7G 3E6\, Canada
ATTACH;FMTTYPE=image/jpeg:https://ontariohistoricalsociety.ca/wp-content/uploads/2019/09/Esquesing-HS-Logo.jpg
ORGANIZER;CN="Esquesing Historical Society":MAILTO:esquesinghs@gmail.com
GEO:43.6485314;-79.9253678
X-APPLE-STRUCTURED-LOCATION;VALUE=URI;X-ADDRESS=Knox Presbyterian Church 116 Main St. S. Georgetown ON L7G 3E6 Canada;X-APPLE-RADIUS=500;X-TITLE=116 Main St. S.:geo:-79.9253678,43.6485314
END:VEVENT
BEGIN:VEVENT
DTSTART;TZID=America/Toronto:20191009T193000
DTEND;TZID=America/Toronto:20191009T193000
DTSTAMP:20260421T062332
CREATED:20190909T185337Z
LAST-MODIFIED:20190909T185337Z
UID:10000083-1570649400-1570649400@ontariohistoricalsociety.ca
SUMMARY:Esquesing HS October 2019 Meeting: The Settlement of Esquesing Township
DESCRIPTION:Ray Denny will continue the 200th anniversary celebration by exploring the settlements of the Township from Crewson’s Corners to Whaley’s Corners! What commodity did each community contribute to the economy of the Township?
URL:https://ontariohistoricalsociety.ca/event/esquesing-hs-october-2019/
LOCATION:Acton Town Hall\, 19 Willow St. North\, Acton\, ON\, L7J 1Z6\, Canada
ATTACH;FMTTYPE=image/jpeg:https://ontariohistoricalsociety.ca/wp-content/uploads/2019/09/Esquesing-HS-Logo.jpg
ORGANIZER;CN="Esquesing Historical Society":MAILTO:esquesinghs@gmail.com
GEO:43.6309702;-80.0412237
X-APPLE-STRUCTURED-LOCATION;VALUE=URI;X-ADDRESS=Acton Town Hall 19 Willow St. North Acton ON L7J 1Z6 Canada;X-APPLE-RADIUS=500;X-TITLE=19 Willow St. North:geo:-80.0412237,43.6309702
END:VEVENT
BEGIN:VEVENT
DTSTART;TZID=America/Toronto:20190911T190000
DTEND;TZID=America/Toronto:20190911T190000
DTSTAMP:20260421T062332
CREATED:20190909T181753Z
LAST-MODIFIED:20190909T181753Z
UID:10000086-1568228400-1568228400@ontariohistoricalsociety.ca
SUMMARY:Esquesing HS September 2019 Meeting: The Early Years of Esquesing Township
DESCRIPTION:John Mark Rowe begins the celebration of 200 years of settlement by exploring the pre-history\, survey and first years of settlement in Esquesing township with a short walk and slide show in the cradle of Esquesing’s history.
URL:https://ontariohistoricalsociety.ca/event/esquesing-hs-september-2019-meeting-the-early-years-of-esquesing-township/
LOCATION:St. John’s Anglican Church\, Stewarttown\, 10996 Trafalgar Rd.\, Georgetown\, Ontario\, L7G 4S5\, Canada
ATTACH;FMTTYPE=image/jpeg:https://ontariohistoricalsociety.ca/wp-content/uploads/2019/09/Esquesing-HS-Logo.jpg
ORGANIZER;CN="Esquesing Historical Society":MAILTO:esquesinghs@gmail.com
GEO:43.6277279;-79.9211722
X-APPLE-STRUCTURED-LOCATION;VALUE=URI;X-ADDRESS=St. John’s Anglican Church Stewarttown 10996 Trafalgar Rd. Georgetown Ontario L7G 4S5 Canada;X-APPLE-RADIUS=500;X-TITLE=10996 Trafalgar Rd.:geo:-79.9211722,43.6277279
END:VEVENT
END:VCALENDAR