BEGIN:VCALENDAR
VERSION:2.0
PRODID:-//The Ontario Historical Society - ECPv6.15.20//NONSGML v1.0//EN
CALSCALE:GREGORIAN
METHOD:PUBLISH
X-ORIGINAL-URL:https://ontariohistoricalsociety.ca
X-WR-CALDESC:Events for The Ontario Historical Society
REFRESH-INTERVAL;VALUE=DURATION:PT1H
X-Robots-Tag:noindex
X-PUBLISHED-TTL:PT1H
BEGIN:VTIMEZONE
TZID:America/Toronto
BEGIN:DAYLIGHT
TZOFFSETFROM:-0500
TZOFFSETTO:-0400
TZNAME:EDT
DTSTART:20210314T070000
END:DAYLIGHT
BEGIN:STANDARD
TZOFFSETFROM:-0400
TZOFFSETTO:-0500
TZNAME:EST
DTSTART:20211107T060000
END:STANDARD
BEGIN:DAYLIGHT
TZOFFSETFROM:-0500
TZOFFSETTO:-0400
TZNAME:EDT
DTSTART:20220313T070000
END:DAYLIGHT
BEGIN:STANDARD
TZOFFSETFROM:-0400
TZOFFSETTO:-0500
TZNAME:EST
DTSTART:20221106T060000
END:STANDARD
BEGIN:DAYLIGHT
TZOFFSETFROM:-0500
TZOFFSETTO:-0400
TZNAME:EDT
DTSTART:20230312T070000
END:DAYLIGHT
BEGIN:STANDARD
TZOFFSETFROM:-0400
TZOFFSETTO:-0500
TZNAME:EST
DTSTART:20231105T060000
END:STANDARD
BEGIN:DAYLIGHT
TZOFFSETFROM:-0500
TZOFFSETTO:-0400
TZNAME:EDT
DTSTART:20240310T070000
END:DAYLIGHT
BEGIN:STANDARD
TZOFFSETFROM:-0400
TZOFFSETTO:-0500
TZNAME:EST
DTSTART:20241103T060000
END:STANDARD
END:VTIMEZONE
BEGIN:VEVENT
DTSTART;VALUE=DATE:20230415
DTEND;VALUE=DATE:20230418
DTSTAMP:20260421T063225
CREATED:20230414T144932Z
LAST-MODIFIED:20230414T144932Z
UID:10000944-1681516800-1681775999@ontariohistoricalsociety.ca
SUMMARY:Ontario Heritage Conference 2023 (London)
DESCRIPTION:Welcome from the Local Organizing Committee for London\, Ontario \n\n\n\n\nWe are so pleased to welcome you all to London\, Ontario for the 2023 Ontario Heritage Conference. There will be so much to talk about this year\, as new opportunities and challenges lie ahead that will require us to think in new ways about how we preserve. There is no better way to face it all than by learning about\, and from\, each other. \nOur heritage communities are slowly rebuilding after years of drifting between virtual and in-person meetings. We have learned valuable lessons during this time about how to connect when it becomes difficult\, and how to keep up with the work of protecting our heritage resources in shifting sands. \nThis conference will consider many perspectives on this work. Many of us are working hard to draw attention to voices that have not always been heard in our heritage discussions. We will look critically at the work that we have done in the past\, while moving toward that which we will do in the future\, with creative new approaches. We have worked hard this past year to design a program that will challenge and excite you. There is much to celebrate even as we brace for the hard work ahead. \nThroughout this conference\, you will have a chance to learn\, to wander\, to discuss and to consider these next steps. London is a city rich in heritage resources with many successes and many challenges\, just like the place that you are from. We have spectacular heritage buildings throughout our City\, as well as a rich mosaic of beautifully preserved Heritage Conservation Districts\, a vibrant and vast network of museums\, and a multitude of organizations working together to keep London on track as a distinct city that sees it’s roots clearly and holds on to the lessons of the past. \nHeritage protection is good urbanism\, and at this conference we will showcase examples of how our historic areas house living\, vibrant and changing communities. We will take you to stunning adaptive reuse examples that will inspire you and lead you to consider how we can fold in all voices into this important work of understanding our past – no matter how challenging – and embracing our shared future. \nThank you for joining us in beautiful London\, Ontario – there is a lot to see here\, and we can’t wait to share it with you. \nYour Local Organizing Committee: Mike Bloxam; Dhira Ghosh (London Heritage Council); Dr. Jason Gilliland (Western University); Michael Greguol (Heritage Planner\, City of London); Dr. Michelle Hamilton (Western University); Tara Jenkins (Cultural Heritage Lead\, AECOM); Wes Kinghorn (ACO London Region Branch); Don Menard; Dorothy Palmer; Mike Rice (London Middlesex Historical Society); Maggie Whalley (ACO London Region Branch)
URL:https://ontariohistoricalsociety.ca/event/ontario-heritage-conference-2023-london/
LOCATION:DoubleTree by Hilton Hotel London Ontario\, 300 King St.\, London\, Ontario\, N6B 1S2\, Canada
ORGANIZER;CN="Community Heritage Ontario":MAILTO:info@communityheritageontario.ca
GEO:42.9845354;-81.2431924
X-APPLE-STRUCTURED-LOCATION;VALUE=URI;X-ADDRESS=DoubleTree by Hilton Hotel London Ontario 300 King St. London Ontario N6B 1S2 Canada;X-APPLE-RADIUS=500;X-TITLE=300 King St.:geo:-81.2431924,42.9845354
END:VEVENT
BEGIN:VEVENT
DTSTART;VALUE=DATE:20220616
DTEND;VALUE=DATE:20220619
DTSTAMP:20260421T063225
CREATED:20220301T145632Z
LAST-MODIFIED:20220301T145632Z
UID:10000488-1655337600-1655596799@ontariohistoricalsociety.ca
SUMMARY:Community Heritage Ontario: Ontario Heritage Conference 2022
DESCRIPTION:Heritage Elizabethtown- Kitley invites you to join us for the Ontario Heritage Conference in 2022. We are excited about the return of this event and the chance to network and learn in the beautiful Leeds and Grenville County. \nNestled between the St. Lawrence River and the Rideau Canal\, the region is robust in United Empire Loyalist and Early Irish Settlement history. Elizabethtown township opened for settlement in 1784. Brockville\, originally named Buell’s Bay\, was renamed after Sir Isaac Brock in 1812. Though surveyed in 1797\, the Kitley area settlements came later with a large immigration from Ireland beginning in 1820. Immerse yourself in excellent architecture\, historic forts\, rural countryside backroads\, and the many attractions that await. \nSpeaker sessions\, plenaries\, and tours will inspire Municipal Heritage Committee members and Heritage Professionals. Get up to date on policy\, trends\, and ideas. To spotlight the region’s iconic heritage\, OHC 2022’s theme\, The Light at the End of the Tunnel will focus on the economic impact of Pandemic times\, the future of heritage conservation\, tourism\, and the positive changes of heritage locally and provincially. \nPlanning a conference in a Pandemic has its challenges. The local organizing committee is meeting regularly and seeking out the best venues and events Brockville and the area have to showcase. We hope to have more details for you in the coming months. Stay tuned! \nTracy Gayda\,\nChair\, Local Organizing Committee
URL:https://ontariohistoricalsociety.ca/event/community-heritage-ontario-ontario-heritage-conference-2022/
LOCATION:Brockville\, Ontario\, TBA\, Brockville\, Ontario\, Canada
ORGANIZER;CN="Community Heritage Ontario":MAILTO:info@communityheritageontario.ca
GEO:44.5895244;-75.6842858
X-APPLE-STRUCTURED-LOCATION;VALUE=URI;X-ADDRESS=Brockville Ontario TBA Brockville Ontario Canada;X-APPLE-RADIUS=500;X-TITLE=TBA:geo:-75.6842858,44.5895244
END:VEVENT
END:VCALENDAR