BEGIN:VCALENDAR
VERSION:2.0
PRODID:-//The Ontario Historical Society - ECPv6.15.20//NONSGML v1.0//EN
CALSCALE:GREGORIAN
METHOD:PUBLISH
X-WR-CALNAME:The Ontario Historical Society
X-ORIGINAL-URL:https://ontariohistoricalsociety.ca
X-WR-CALDESC:Events for The Ontario Historical Society
REFRESH-INTERVAL;VALUE=DURATION:PT1H
X-Robots-Tag:noindex
X-PUBLISHED-TTL:PT1H
BEGIN:VTIMEZONE
TZID:America/Toronto
BEGIN:DAYLIGHT
TZOFFSETFROM:-0500
TZOFFSETTO:-0400
TZNAME:EDT
DTSTART:20200308T070000
END:DAYLIGHT
BEGIN:STANDARD
TZOFFSETFROM:-0400
TZOFFSETTO:-0500
TZNAME:EST
DTSTART:20201101T060000
END:STANDARD
BEGIN:DAYLIGHT
TZOFFSETFROM:-0500
TZOFFSETTO:-0400
TZNAME:EDT
DTSTART:20210314T070000
END:DAYLIGHT
BEGIN:STANDARD
TZOFFSETFROM:-0400
TZOFFSETTO:-0500
TZNAME:EST
DTSTART:20211107T060000
END:STANDARD
BEGIN:DAYLIGHT
TZOFFSETFROM:-0500
TZOFFSETTO:-0400
TZNAME:EDT
DTSTART:20220313T070000
END:DAYLIGHT
BEGIN:STANDARD
TZOFFSETFROM:-0400
TZOFFSETTO:-0500
TZNAME:EST
DTSTART:20221106T060000
END:STANDARD
END:VTIMEZONE
BEGIN:VEVENT
DTSTART;TZID=America/Toronto:20210801T150000
DTEND;TZID=America/Toronto:20210801T170000
DTSTAMP:20260421T114107
CREATED:20210714T150215Z
LAST-MODIFIED:20210714T150308Z
UID:10000295-1627830000-1627837200@ontariohistoricalsociety.ca
SUMMARY:Emancipation Day Drive-Thru BBQ (Oakville)
DESCRIPTION:To celebrate Emancipation Day on Sunday\, August 1\, the CCAH will be hosting a free drive-thru BBQ in Oakville featuring Chef Romaine from our Sizzlin’ Halton cooking series. \nTo celebrate Emancipation Day in Oakville\, the CCAH is collaborating with the Halton Black History Awareness Society (HBHAS). Pre-order your meals with the CCAH and then join the HBHAS online at 5:00 pm for virtual entertainment. \nYou will be required to pre-register for meals here to help us track numbers and manage COVID-19 restrictions. We will be providing up to 200 free meals. Chef Romaine will be preparing meals featured in our Sizzlin’ Halton cooking series featured on Cogeco’s YourTV throughout the summer. \nWhile your meal is free\, we kindly ask that you consider making a donation to our charity to allow us to continue providing educational and cultural programs that create a sense of community and harmony.
URL:https://ontariohistoricalsociety.ca/event/emancipation-day-drive-thru-bbq-oakville/
LOCATION:Queen Elizabeth Park Community and Cultural Centre\, 2302 Bridge Rd\, Oakville\, Ontario\, L6L 3L5\, Canada
ORGANIZER;CN="Canadian Caribbean Association of Halton":MAILTO:info@ccah.ca
GEO:43.4051817;-79.7187788
X-APPLE-STRUCTURED-LOCATION;VALUE=URI;X-ADDRESS=Queen Elizabeth Park Community and Cultural Centre 2302 Bridge Rd Oakville Ontario L6L 3L5 Canada;X-APPLE-RADIUS=500;X-TITLE=2302 Bridge Rd:geo:-79.7187788,43.4051817
END:VEVENT
END:VCALENDAR