BEGIN:VCALENDAR
VERSION:2.0
PRODID:-//The Ontario Historical Society - ECPv6.15.20//NONSGML v1.0//EN
CALSCALE:GREGORIAN
METHOD:PUBLISH
X-WR-CALNAME:The Ontario Historical Society
X-ORIGINAL-URL:https://ontariohistoricalsociety.ca
X-WR-CALDESC:Events for The Ontario Historical Society
REFRESH-INTERVAL;VALUE=DURATION:PT1H
X-Robots-Tag:noindex
X-PUBLISHED-TTL:PT1H
BEGIN:VTIMEZONE
TZID:America/Toronto
BEGIN:DAYLIGHT
TZOFFSETFROM:-0500
TZOFFSETTO:-0400
TZNAME:EDT
DTSTART:20240310T070000
END:DAYLIGHT
BEGIN:STANDARD
TZOFFSETFROM:-0400
TZOFFSETTO:-0500
TZNAME:EST
DTSTART:20241103T060000
END:STANDARD
BEGIN:DAYLIGHT
TZOFFSETFROM:-0500
TZOFFSETTO:-0400
TZNAME:EDT
DTSTART:20250309T070000
END:DAYLIGHT
BEGIN:STANDARD
TZOFFSETFROM:-0400
TZOFFSETTO:-0500
TZNAME:EST
DTSTART:20251102T060000
END:STANDARD
BEGIN:DAYLIGHT
TZOFFSETFROM:-0500
TZOFFSETTO:-0400
TZNAME:EDT
DTSTART:20260308T070000
END:DAYLIGHT
BEGIN:STANDARD
TZOFFSETFROM:-0400
TZOFFSETTO:-0500
TZNAME:EST
DTSTART:20261101T060000
END:STANDARD
END:VTIMEZONE
BEGIN:VEVENT
DTSTART;TZID=America/Toronto:20251203T143000
DTEND;TZID=America/Toronto:20251203T143000
DTSTAMP:20260421T081300
CREATED:20251117T164508Z
LAST-MODIFIED:20251117T164649Z
UID:10001647-1764772200-1764772200@ontariohistoricalsociety.ca
SUMMARY:PAMA Presentation - Railway History of George Laidlaw
DESCRIPTION:Please join us at Peel Art Gallery\, Museum and Archives (PAMA) for a presentation on the life and times of railway promoter George Laidlaw\, “The Prince of Bonus Hunters”\, by his great great grandson Doug Paterson. \nPresentation is free with admission. \n  \nVisitors are welcome to visit the exhibition All Aboard: The Railways of Peel. \n  \nGeorge Laidlaw emigrated from Scotland to Canada in 1855. His ability to raise money to build railways was legendary as he oversaw the construction of 500 km of railway in southern Ontario\, including the Credit Valley Railway and the Toronto Grey and Bruce Railway. \n  \nDoug Paterson is a retired banker living in his ancestral Laidlaw family home on Balsam Lake. He has an interest in family history and by good fortune has access to a trove of historical information and artifacts. He is currently writing a book on the Laidlaw and Corby families\, titled “Rails and Rye”.
URL:https://ontariohistoricalsociety.ca/event/pama-presentation/
LOCATION:Peel Art Gallery\, Museum & Archives (PAMA)\, 9 Wellington Street East\, Brampton\, ON\, Canada
END:VEVENT
BEGIN:VEVENT
DTSTART;TZID=America/Toronto:20251203T193000
DTEND;TZID=America/Toronto:20251203T193000
DTSTAMP:20260421T081300
CREATED:20251124T191815Z
LAST-MODIFIED:20251124T191815Z
UID:10001650-1764790200-1764790200@ontariohistoricalsociety.ca
SUMMARY:Weston Historical Society - 43rd Annual Hymn & Carol Sing
DESCRIPTION:Please help us celebrate this holiday season. The WHS 43rd Annual Hymn and Carol Sing. \nWeston Presbyterian Church \n7 Cross Street\, Weston \nPlease bring an item for the food bank.
URL:https://ontariohistoricalsociety.ca/event/weston-historical-society-42nd-old-fashioned-christmas-carol-hymn-sing-2/
LOCATION:Weston Presbyterian Church\, Cross Street 11\, Toronto\, Ontario\, M9N 2B8\, Canada
GEO:43.7043958;-79.5245132
X-APPLE-STRUCTURED-LOCATION;VALUE=URI;X-ADDRESS=Weston Presbyterian Church Cross Street 11 Toronto Ontario M9N 2B8 Canada;X-APPLE-RADIUS=500;X-TITLE=Cross Street 11:geo:-79.5245132,43.7043958
END:VEVENT
BEGIN:VEVENT
DTSTART;TZID=America/Toronto:20251204T120000
DTEND;TZID=America/Toronto:20251204T120000
DTSTAMP:20260421T081300
CREATED:20251125T151726Z
LAST-MODIFIED:20251125T151726Z
UID:10001652-1764849600-1764849600@ontariohistoricalsociety.ca
SUMMARY:Lundy's Lane Historical Society - Christmas Luncheon
DESCRIPTION:On Thursday\, December 4th\, The Lundy’s Lane Historical Society will host a Christmas Luncheon for our Members and Friends at Betty’s Restaurant in Chippawa starting at 12pm. We are delighted to welcome Paul Burton\, a retired Newspaper Executive and Journalist who served as Editor of the Hamilton Spectator and London Free Press. Paul is the son of noted Canadian author and broadcaster Pierre Burton. The title of Paul’s presentation to the Society: “How much is too much?” \nMenu:\nChoice of: Chicken Parmesan\, Roast Beef Dinner\, Fish and Chips or Turkey Dinner\n**All lunches come with salad\, entree\, dessert\, coffee or tea.\nTotal price including taxes and tip $40/ person. As we will be collecting at the door\, proper change is appreciated or a cheque payable to The Lundy’s Lane Historical Society. \nTo assist us with planning\, please contact Mr. Garry Lemon to reserve your seat. Garry can be reached by email garryl01@yahoo [dot] com. \nWe have the large room at the South end of Betty’s Restaurant and you can enter directly from the parking lot. \nEveryone is welcome. Please reserve your seat and come join us!!
URL:https://ontariohistoricalsociety.ca/event/lundys-lane-historical-society-christmas-luncheon/
LOCATION:Betty’s Restaurant\, 8921 Sodom Rd\, Niagara Falls\, Ontario\, L2G 0T4\, Canada
ORGANIZER;CN="Lundy's Lane Historical Society":MAILTO:lundyslanehistoricalsociety@gmail.com
END:VEVENT
BEGIN:VEVENT
DTSTART;TZID=America/Toronto:20251205T163000
DTEND;TZID=America/Toronto:20251205T183000
DTSTAMP:20260421T081300
CREATED:20250722T131423Z
LAST-MODIFIED:20250722T131423Z
UID:10001538-1764952200-1764959400@ontariohistoricalsociety.ca
SUMMARY:Guelph Black Heritage Society - Bloom & Belong Summer Drop-In for BIPOC Youth
DESCRIPTION:Fridays in July & August \n Heritage Hall\, 83 Essex Street\, Guelph \n Open to youth ages 12–18 \n Free refreshments provided \nJoin us for a welcoming and empowering space where BIPOC youth can connect\, create\, and celebrate community all summer long. All are welcome. \nSpecial thanks to the Upper Grand District School Board and Wellington Catholic District School Board for their generous support of this initiative. \n For more information\, contact: info@guelphblackheritage.ca
URL:https://ontariohistoricalsociety.ca/event/guelph-black-heritage-society-bloom-belong-summer-drop-in-for-bipoc-youth/2025-12-05/
LOCATION:Heritage Hall\, Essex Street 83\, Guelph\, Ontario\, N1H 3K9\, Canada
ORGANIZER;CN="Guelph Black Heritage Society":MAILTO:marketing.gbhs@gmail.com
GEO:43.5396806;-80.2503497
X-APPLE-STRUCTURED-LOCATION;VALUE=URI;X-ADDRESS=Heritage Hall Essex Street 83 Guelph Ontario N1H 3K9 Canada;X-APPLE-RADIUS=500;X-TITLE=Essex Street 83:geo:-80.2503497,43.5396806
END:VEVENT
BEGIN:VEVENT
DTSTART;TZID=America/Toronto:20251206T130000
DTEND;TZID=America/Toronto:20251206T130000
DTSTAMP:20260421T081300
CREATED:20251117T164958Z
LAST-MODIFIED:20251117T164958Z
UID:10001648-1765026000-1765026000@ontariohistoricalsociety.ca
SUMMARY:Historical Society of Ottawa Speaker Series : L’autre Besserer: du Nouveau-Brunswick à Niagara
DESCRIPTION:Guest Speaker: Christine Matamoros \nHow can we explain the arrival of notary Louis Théodore Besserer from the Quebec City region\, who settled with his family in Sandy Hill | Côte-de-Sable around 1840? He inherited the land from his brother. \nWhat do we know about this other Besserer? Discover the incredible story of his military service with the 104th Regiment during the War of 1812. \nAdmission is free. All are welcome to attend. \nPlease note: this presentation will be conducted in French.
URL:https://ontariohistoricalsociety.ca/event/historical-society-of-ottawa-speaker-series-epopee-maritime-des-raftsmen-2/
LOCATION:Ottawa Public Library\, St-Laurent Branch\, Coté Street 515\, Ottawa\, Ontario\, K1K 0Z8\, Canada
ORGANIZER;CN="The Historical Society of Ottawa":MAILTO:info@historicalsocietyottawa.ca
GEO:45.4362488;-75.6477027
X-APPLE-STRUCTURED-LOCATION;VALUE=URI;X-ADDRESS=Ottawa Public Library St-Laurent Branch Coté Street 515 Ottawa Ontario K1K 0Z8 Canada;X-APPLE-RADIUS=500;X-TITLE=Coté Street 515:geo:-75.6477027,45.4362488
END:VEVENT
BEGIN:VEVENT
DTSTART;TZID=America/Toronto:20251206T133000
DTEND;TZID=America/Toronto:20251206T133000
DTSTAMP:20260421T081300
CREATED:20251126T162214Z
LAST-MODIFIED:20251126T162214Z
UID:10001656-1765027800-1765027800@ontariohistoricalsociety.ca
SUMMARY:Lanark County Genealogical Society Monthly Meeting - Smiths Falls Heritage House Museum
DESCRIPTION:Join us via Zoom at 1:30 pm for an enlightening session with Leisa Purdon Bell\, Curator of the Smiths Falls Heritage House Museum. She will explore the fascinating history of the residents at 11 Old Slys Road. \nA Glimpse into the Past \n– Built by Joshua Bates from 1860 to 1863\, the Heritage House has housed numerous families between 1864 and 1977. \n– Notable figures include Truman R. Ward\, the firstborn resident of Smiths Falls\, the community’s electric works\, and a renowned party horse. \n– Additional family names featured in the discussion will include the Davidsons\, O’Haras\, McGraths\, Ryans\, and Gleesons. \nSince 1977\, the Heritage House has served as a community museum\, preserving and sharing the stories of both the home and the surrounding community. Today the museum continues to partner with the Lanark County Genealogical Society\, offering a space for researchers from all over the world in its Genealogy Reference Library. \nAll are Welcome to attend this Lanark County Genealogical Society membership meeting. \nIf you have any inquiries or require more information about the event or to register to attend\, feel free to reach out to Jayne at 613-257-9482 or send an email to lcgspresident@gmail[dot]com. We are eager to assist you and ensure that you have all the details needed to join in to our meeting \n 
URL:https://ontariohistoricalsociety.ca/event/lanark-county-genealogical-society-monthly-meeting-smiths-falls-heritage-house-museum/
LOCATION:online
GEO:56.130366;-106.346771
END:VEVENT
BEGIN:VEVENT
DTSTART;TZID=America/Toronto:20251206T160000
DTEND;TZID=America/Toronto:20251206T200000
DTSTAMP:20260421T081300
CREATED:20251125T152031Z
LAST-MODIFIED:20251125T152031Z
UID:10001654-1765036800-1765051200@ontariohistoricalsociety.ca
SUMMARY:Lang Pioneer Village Museum - Christmas by Candlelight
DESCRIPTION:Experience the charm of a traditional pioneer Christmas with Christmas by Candlelight\, taking place Saturday\n& Sunday\, December 6 & 7 at Lang Pioneer Village Museum. From 4 pm to 8 pm each night\, discover the origins of\nChristmas traditions we celebrate today\, and delight in the sights\, sounds\, and smells of the holiday season. \nDiscover the beauty of the historic village lit by the soft glow of candles\, lamps\, and lanterns. Hear the jingle of sleigh bells\nas you tour the village by horse-drawn wagon ride courtesy of Highview Farm\, and see stars shining brightly in the country\nnight sky. Throughout the village\, enjoy the familiar scents of hearth fires\, pine and cedar garlands\, and freshly made\nnatural centerpieces. \nExperience a pioneer’s first Christmas in the wilderness at the Fife Cabin. Witness the merriment of friends who have\ngathered for the holidays and join in on a traditional toast to the holiday season at the Fitzpatrick House. Learn about\ntraditional holiday treats at the Milburn House\, and discover the history of the Christmas tree and stockings. \nView a selection of early Christmas gift ideas at the General Store\, and learn the history of the toy maker at the Carpenter\nShop. Hear the tale of the Flying Canoe\, and enjoy shanties and Christmas songs performed by Glen Caradus and Fiddling\nJay. Stop and enjoy the sweet chiming of the bells with Christmas tunes performed by the St. John’s Bell Ringers. Have\nsome fun participating in reindeer games such as tandem ski\, snowshoe\, and sled races. Be sure to visit with Father and\nMother Christmas themselves\, and don’t forget to bring your letter for Father Christmas to leave in his mailbox. \nTempt your taste buds with tasty treats and hot drinks to warm your insides at the Keene Hotel\, or stop by the\nPeterborough County Agricultural Heritage Building for some delicious ham and savory on a bun.\nOn Sunday at 7:00 pm\, witness a live nativity complete with animals and a choir presented by the Keene United Church. In the spirit of the season\, on both evenings\, please bring one or more non-perishable food item(s) to donate to the Otonabee-\nSouth Monaghan Food Cupboard (drop off in the Museum Shop). \nTickets for the event are available for purchase in advance online and at the door. On-site parking is available on a first-\ncome\, first-served basis. Overflow parking for the event is available at McIntyre Park. \nExperience the warmth and merriment of Christmases past with Christmas by Candlelight\, Saturday & Sunday\, December\n6 & 7 from 4 pm to 8 pm each night at Lang Pioneer Village Museum! Admission is $17 for adults\, $12 for students and\nseniors (60+)\, $9 for youths (ages 5-14)\, and free for children under 5. Family admission is also available for $45 and\nincludes 2 adults and up to 4 youths ages 5-14. Visitors are encouraged to bring cash as there is no ATM on-site. For more\ninformation\, please visit our website at www.langpioneervillage.ca.
URL:https://ontariohistoricalsociety.ca/event/lang-pioneer-village-museum-christmas-bazaar-raffle-2/2025-12-06/
LOCATION:Lang Pioneer Village Museum\, 104 Lang Rd\, Keene\, ON\, K0L 2G0\, Canada
ORGANIZER;CN="Lang Pioneer Village Museum":MAILTO:media@langpioneervillage.ca
GEO:44.274351;-78.169711
X-APPLE-STRUCTURED-LOCATION;VALUE=URI;X-ADDRESS=Lang Pioneer Village Museum 104 Lang Rd Keene ON K0L 2G0 Canada;X-APPLE-RADIUS=500;X-TITLE=104 Lang Rd:geo:-78.169711,44.274351
END:VEVENT
BEGIN:VEVENT
DTSTART;TZID=America/Toronto:20251206T190000
DTEND;TZID=America/Toronto:20251206T233000
DTSTAMP:20260421T081300
CREATED:20251112T173402Z
LAST-MODIFIED:20251112T173402Z
UID:10001642-1765047600-1765063800@ontariohistoricalsociety.ca
SUMMARY:Guelph Black Heritage Society - Celebrate\, Give & Groove
DESCRIPTION:Join the Guelph Black Heritage Society for its annual Holiday Fundraiser—a night of soulful music\, festive cheer\, and giving back.\n\n\n\nEnjoy live entertainment by the acclaimed Andrew Craig & Friends\, plus delicious appetizers\, drinks\, and small bites. \nYour support matters! Proceeds benefit two important causes: \n\nThe Heart & Soul Campaign – dedicated to preserving Heritage Hall\, a historic landmark built by formerly enslaved Black settlers. This campaign funds restoration\, accessibility upgrades\, and cultural programs\, ensuring Heritage Hall remains a vibrant hub for education and celebration of Black history in Guelph.\nHurricane Melissa Relief – providing aid to Caribbean communities impacted by the devastating Category 5 storm. Donations will support ShelterBox\, a global disaster relief organization delivering emergency shelter and essential supplies to families displaced by disasters.
URL:https://ontariohistoricalsociety.ca/event/guelph-black-heritage-society-celebrate-give-groove/
LOCATION:Guelph Youth Music Centre\, Cardigan Street 75\, Guelph\, ON\, N1H 3Z7\, Canada
ORGANIZER;CN="Guelph Black Heritage Society":MAILTO:marketing.gbhs@gmail.com
GEO:43.5508687;-80.2539776
X-APPLE-STRUCTURED-LOCATION;VALUE=URI;X-ADDRESS=Guelph Youth Music Centre Cardigan Street 75 Guelph ON N1H 3Z7 Canada;X-APPLE-RADIUS=500;X-TITLE=Cardigan Street 75:geo:-80.2539776,43.5508687
END:VEVENT
BEGIN:VEVENT
DTSTART;TZID=America/Toronto:20251207T110000
DTEND;TZID=America/Toronto:20251207T163000
DTSTAMP:20260421T081300
CREATED:20251112T173625Z
LAST-MODIFIED:20251112T173625Z
UID:10001643-1765105200-1765125000@ontariohistoricalsociety.ca
SUMMARY:Oakville Historical Society - Victorian Christmas Tea
DESCRIPTION:Join us for a Victorian Christmas Tea on Sunday December 7. \nStep back in time\, into the cosy cottages which will be festively wreathed with boughs and candles. Our costumed ladies will welcome and serve you a delightfully arranged tier of savoury and sweet treats with an appropriately festive twist accompanied by a piping hot pot of tea. \nWe are again offering tables of four at three sittings and as a member you have the opportunity to purchase your tickets in our advance sale until Sunday November 16 with no Eventbrite fees incurred. After that date the sales will be open to everyone with the Eventbrite fees in effect. \nPlease be advised:\nThe cottages are not wheelchair accessible. Children 10 years of age and older are welcome when accompanied by an adult. Unfortunately we cannot accommodate dietary requirements\, our menu can be viewed on our website at\nhttps://www.oakvillehistory.org/activities/christmas-tea-advanced-sales \nYou can purchase your advance tickets by clicking the following link:\nhttps://www.oakvillehistory.org/activities/christmas-tea-advanced-sales
URL:https://ontariohistoricalsociety.ca/event/oakville-historical-society-victorian-christmas-tea/
LOCATION:Oakville Historical Society\, King Street 110\, Oakville\, Ontario\, L6J 1B1\, Canada
ORGANIZER;CN="Oakville Historical Society":MAILTO:information@oakvillehistory.org
GEO:43.4420904;-79.6678162
X-APPLE-STRUCTURED-LOCATION;VALUE=URI;X-ADDRESS=Oakville Historical Society King Street 110 Oakville Ontario L6J 1B1 Canada;X-APPLE-RADIUS=500;X-TITLE=King Street 110:geo:-79.6678162,43.4420904
END:VEVENT
BEGIN:VEVENT
DTSTART;TZID=America/Toronto:20251207T130000
DTEND;TZID=America/Toronto:20251207T130000
DTSTAMP:20260421T081300
CREATED:20251112T173903Z
LAST-MODIFIED:20251112T173903Z
UID:10001644-1765112400-1765112400@ontariohistoricalsociety.ca
SUMMARY:Kensington Market Historical Society - “Good View of Bellevue”  ANNUAL AGM AND FREE WALKING TOUR OF KENSINGTON MARKET
DESCRIPTION:“Good View of Bellevue” \nANNUAL AGM AND FREE WALKING TOUR OF KENSINGTON MARKET \n  \nSUNDAY\, DECEMBER 7\, 2025\n1:00 PM \nMeet at St. Stephen-in-the-Fields Church \n103 Bellevue Ave (corner of Bellevue & College) \nRSVP: info@kmhs.ca \nDress warmly!
URL:https://ontariohistoricalsociety.ca/event/kensington-market-historical-society-good-view-of-bellevue-annual-agm-and-free-walking-tour-of-kensington-market/
LOCATION:St. Stephen-in-the-Fields Church\, 103 Bellevue Ave\, Toronto\, Ontario\, Canada
ORGANIZER;CN="Kensington Market Historical Society":MAILTO:info@kmhs.ca
END:VEVENT
BEGIN:VEVENT
DTSTART;TZID=America/Toronto:20251207T160000
DTEND;TZID=America/Toronto:20251207T200000
DTSTAMP:20260421T081300
CREATED:20251125T152031Z
LAST-MODIFIED:20251125T152031Z
UID:10001655-1765123200-1765137600@ontariohistoricalsociety.ca
SUMMARY:Lang Pioneer Village Museum - Christmas by Candlelight
DESCRIPTION:Experience the charm of a traditional pioneer Christmas with Christmas by Candlelight\, taking place Saturday\n& Sunday\, December 6 & 7 at Lang Pioneer Village Museum. From 4 pm to 8 pm each night\, discover the origins of\nChristmas traditions we celebrate today\, and delight in the sights\, sounds\, and smells of the holiday season. \nDiscover the beauty of the historic village lit by the soft glow of candles\, lamps\, and lanterns. Hear the jingle of sleigh bells\nas you tour the village by horse-drawn wagon ride courtesy of Highview Farm\, and see stars shining brightly in the country\nnight sky. Throughout the village\, enjoy the familiar scents of hearth fires\, pine and cedar garlands\, and freshly made\nnatural centerpieces. \nExperience a pioneer’s first Christmas in the wilderness at the Fife Cabin. Witness the merriment of friends who have\ngathered for the holidays and join in on a traditional toast to the holiday season at the Fitzpatrick House. Learn about\ntraditional holiday treats at the Milburn House\, and discover the history of the Christmas tree and stockings. \nView a selection of early Christmas gift ideas at the General Store\, and learn the history of the toy maker at the Carpenter\nShop. Hear the tale of the Flying Canoe\, and enjoy shanties and Christmas songs performed by Glen Caradus and Fiddling\nJay. Stop and enjoy the sweet chiming of the bells with Christmas tunes performed by the St. John’s Bell Ringers. Have\nsome fun participating in reindeer games such as tandem ski\, snowshoe\, and sled races. Be sure to visit with Father and\nMother Christmas themselves\, and don’t forget to bring your letter for Father Christmas to leave in his mailbox. \nTempt your taste buds with tasty treats and hot drinks to warm your insides at the Keene Hotel\, or stop by the\nPeterborough County Agricultural Heritage Building for some delicious ham and savory on a bun.\nOn Sunday at 7:00 pm\, witness a live nativity complete with animals and a choir presented by the Keene United Church. In the spirit of the season\, on both evenings\, please bring one or more non-perishable food item(s) to donate to the Otonabee-\nSouth Monaghan Food Cupboard (drop off in the Museum Shop). \nTickets for the event are available for purchase in advance online and at the door. On-site parking is available on a first-\ncome\, first-served basis. Overflow parking for the event is available at McIntyre Park. \nExperience the warmth and merriment of Christmases past with Christmas by Candlelight\, Saturday & Sunday\, December\n6 & 7 from 4 pm to 8 pm each night at Lang Pioneer Village Museum! Admission is $17 for adults\, $12 for students and\nseniors (60+)\, $9 for youths (ages 5-14)\, and free for children under 5. Family admission is also available for $45 and\nincludes 2 adults and up to 4 youths ages 5-14. Visitors are encouraged to bring cash as there is no ATM on-site. For more\ninformation\, please visit our website at www.langpioneervillage.ca.
URL:https://ontariohistoricalsociety.ca/event/lang-pioneer-village-museum-christmas-bazaar-raffle-2/2025-12-07/
LOCATION:Lang Pioneer Village Museum\, 104 Lang Rd\, Keene\, ON\, K0L 2G0\, Canada
ORGANIZER;CN="Lang Pioneer Village Museum":MAILTO:media@langpioneervillage.ca
GEO:44.274351;-78.169711
X-APPLE-STRUCTURED-LOCATION;VALUE=URI;X-ADDRESS=Lang Pioneer Village Museum 104 Lang Rd Keene ON K0L 2G0 Canada;X-APPLE-RADIUS=500;X-TITLE=104 Lang Rd:geo:-78.169711,44.274351
END:VEVENT
BEGIN:VEVENT
DTSTART;TZID=America/Toronto:20251210T190000
DTEND;TZID=America/Toronto:20251210T190000
DTSTAMP:20260421T081300
CREATED:20251120T153159Z
LAST-MODIFIED:20251120T153159Z
UID:10001649-1765393200-1765393200@ontariohistoricalsociety.ca
SUMMARY:La Société d'histoire de Toronto - Une histoire mondiale de la vanille
DESCRIPTION:Conférencier : Éric Jennings\, Professeur d’histoire\, Université de Toronto\n\n  \nC’est grâce à un jeune esclave féru de botanique que la vanille\, orchidée originaire d’Amérique centrale\, devint au XIXème siècle une des denrées par excellence de l’empire colonial français. Tout bascule de nouveau lorsqu’est découverte et popularisée la vanilline de synthèse.  Contrairement à d’autres denrées (coton\, caoutchouc\, café\, indigo\, cacao) la vanille a fait jusqu’ici l’objet de relativement peu de recherches à ce jour.  A la frontière entre l’histoire du goût\, des savoirs botaniques et de l’économie des marchés alimentaires\, cette présentation met en évidence un vaste transfert\, depuis le monde Atlantique (Mexique) à l’océan Indien\, et de la sphère hispanique à l’orbite coloniale française de l’époque.
URL:https://ontariohistoricalsociety.ca/event/la-societe-dhistoire-de-toronto-historitour-harbourfront-ouest-partie-1-6-aout-2025-2-2-2-2-2/
LOCATION:Théâtre de l’Alliance française\, Spadina Road 24\, Toronto\, Ontario\, M5R 2S7\, Canada
ORGANIZER;CN="La Soci%C3%A9t%C3%A9 d%E2%80%99histoire de Toronto":MAILTO:info@sht.ca
GEO:43.6686938;-79.4052582
X-APPLE-STRUCTURED-LOCATION;VALUE=URI;X-ADDRESS=Théâtre de l’Alliance française Spadina Road 24 Toronto Ontario M5R 2S7 Canada;X-APPLE-RADIUS=500;X-TITLE=Spadina Road 24:geo:-79.4052582,43.6686938
END:VEVENT
BEGIN:VEVENT
DTSTART;TZID=America/Toronto:20251212T163000
DTEND;TZID=America/Toronto:20251212T183000
DTSTAMP:20260421T081300
CREATED:20250722T131423Z
LAST-MODIFIED:20250722T131423Z
UID:10001539-1765557000-1765564200@ontariohistoricalsociety.ca
SUMMARY:Guelph Black Heritage Society - Bloom & Belong Summer Drop-In for BIPOC Youth
DESCRIPTION:Fridays in July & August \n Heritage Hall\, 83 Essex Street\, Guelph \n Open to youth ages 12–18 \n Free refreshments provided \nJoin us for a welcoming and empowering space where BIPOC youth can connect\, create\, and celebrate community all summer long. All are welcome. \nSpecial thanks to the Upper Grand District School Board and Wellington Catholic District School Board for their generous support of this initiative. \n For more information\, contact: info@guelphblackheritage.ca
URL:https://ontariohistoricalsociety.ca/event/guelph-black-heritage-society-bloom-belong-summer-drop-in-for-bipoc-youth/2025-12-12/
LOCATION:Heritage Hall\, Essex Street 83\, Guelph\, Ontario\, N1H 3K9\, Canada
ORGANIZER;CN="Guelph Black Heritage Society":MAILTO:marketing.gbhs@gmail.com
GEO:43.5396806;-80.2503497
X-APPLE-STRUCTURED-LOCATION;VALUE=URI;X-ADDRESS=Heritage Hall Essex Street 83 Guelph Ontario N1H 3K9 Canada;X-APPLE-RADIUS=500;X-TITLE=Essex Street 83:geo:-80.2503497,43.5396806
END:VEVENT
BEGIN:VEVENT
DTSTART;TZID=America/Toronto:20251219T163000
DTEND;TZID=America/Toronto:20251219T183000
DTSTAMP:20260421T081300
CREATED:20250722T131423Z
LAST-MODIFIED:20250722T131423Z
UID:10001540-1766161800-1766169000@ontariohistoricalsociety.ca
SUMMARY:Guelph Black Heritage Society - Bloom & Belong Summer Drop-In for BIPOC Youth
DESCRIPTION:Fridays in July & August \n Heritage Hall\, 83 Essex Street\, Guelph \n Open to youth ages 12–18 \n Free refreshments provided \nJoin us for a welcoming and empowering space where BIPOC youth can connect\, create\, and celebrate community all summer long. All are welcome. \nSpecial thanks to the Upper Grand District School Board and Wellington Catholic District School Board for their generous support of this initiative. \n For more information\, contact: info@guelphblackheritage.ca
URL:https://ontariohistoricalsociety.ca/event/guelph-black-heritage-society-bloom-belong-summer-drop-in-for-bipoc-youth/2025-12-19/
LOCATION:Heritage Hall\, Essex Street 83\, Guelph\, Ontario\, N1H 3K9\, Canada
ORGANIZER;CN="Guelph Black Heritage Society":MAILTO:marketing.gbhs@gmail.com
GEO:43.5396806;-80.2503497
X-APPLE-STRUCTURED-LOCATION;VALUE=URI;X-ADDRESS=Heritage Hall Essex Street 83 Guelph Ontario N1H 3K9 Canada;X-APPLE-RADIUS=500;X-TITLE=Essex Street 83:geo:-80.2503497,43.5396806
END:VEVENT
BEGIN:VEVENT
DTSTART;TZID=America/Toronto:20251226T163000
DTEND;TZID=America/Toronto:20251226T183000
DTSTAMP:20260421T081300
CREATED:20250722T131423Z
LAST-MODIFIED:20250722T131423Z
UID:10001541-1766766600-1766773800@ontariohistoricalsociety.ca
SUMMARY:Guelph Black Heritage Society - Bloom & Belong Summer Drop-In for BIPOC Youth
DESCRIPTION:Fridays in July & August \n Heritage Hall\, 83 Essex Street\, Guelph \n Open to youth ages 12–18 \n Free refreshments provided \nJoin us for a welcoming and empowering space where BIPOC youth can connect\, create\, and celebrate community all summer long. All are welcome. \nSpecial thanks to the Upper Grand District School Board and Wellington Catholic District School Board for their generous support of this initiative. \n For more information\, contact: info@guelphblackheritage.ca
URL:https://ontariohistoricalsociety.ca/event/guelph-black-heritage-society-bloom-belong-summer-drop-in-for-bipoc-youth/2025-12-26/
LOCATION:Heritage Hall\, Essex Street 83\, Guelph\, Ontario\, N1H 3K9\, Canada
ORGANIZER;CN="Guelph Black Heritage Society":MAILTO:marketing.gbhs@gmail.com
GEO:43.5396806;-80.2503497
X-APPLE-STRUCTURED-LOCATION;VALUE=URI;X-ADDRESS=Heritage Hall Essex Street 83 Guelph Ontario N1H 3K9 Canada;X-APPLE-RADIUS=500;X-TITLE=Essex Street 83:geo:-80.2503497,43.5396806
END:VEVENT
END:VCALENDAR