BEGIN:VCALENDAR
VERSION:2.0
PRODID:-//The Ontario Historical Society - ECPv6.15.20//NONSGML v1.0//EN
CALSCALE:GREGORIAN
METHOD:PUBLISH
X-ORIGINAL-URL:https://ontariohistoricalsociety.ca
X-WR-CALDESC:Events for The Ontario Historical Society
REFRESH-INTERVAL;VALUE=DURATION:PT1H
X-Robots-Tag:noindex
X-PUBLISHED-TTL:PT1H
BEGIN:VTIMEZONE
TZID:America/Toronto
BEGIN:DAYLIGHT
TZOFFSETFROM:-0500
TZOFFSETTO:-0400
TZNAME:EDT
DTSTART:20240310T070000
END:DAYLIGHT
BEGIN:STANDARD
TZOFFSETFROM:-0400
TZOFFSETTO:-0500
TZNAME:EST
DTSTART:20241103T060000
END:STANDARD
BEGIN:DAYLIGHT
TZOFFSETFROM:-0500
TZOFFSETTO:-0400
TZNAME:EDT
DTSTART:20250309T070000
END:DAYLIGHT
BEGIN:STANDARD
TZOFFSETFROM:-0400
TZOFFSETTO:-0500
TZNAME:EST
DTSTART:20251102T060000
END:STANDARD
BEGIN:DAYLIGHT
TZOFFSETFROM:-0500
TZOFFSETTO:-0400
TZNAME:EDT
DTSTART:20260308T070000
END:DAYLIGHT
BEGIN:STANDARD
TZOFFSETFROM:-0400
TZOFFSETTO:-0500
TZNAME:EST
DTSTART:20261101T060000
END:STANDARD
END:VTIMEZONE
BEGIN:VEVENT
DTSTART;TZID=America/Toronto:20250501T183000
DTEND;TZID=America/Toronto:20250501T210000
DTSTAMP:20260421T233959
CREATED:20250310T180711Z
LAST-MODIFIED:20250310T180711Z
UID:10001436-1746124200-1746133200@ontariohistoricalsociety.ca
SUMMARY:Town of York Historical Society Annual Fundraiser: Banned & Brewed
DESCRIPTION:This year\, the Town of York Historical Society’s Annual Fundraiser will take place on a new date\, May 1\, 2025\, to celebrate the City of Toronto’s 191st Birthday\, ahead of Museum month. After its colonial establishment in 1793\, the Town of York was incorporated on March 6\, 1834 as the City of Toronto marking its beginnings as a booming metropolis. The date isn’t the only thing changing this year. Traditionally\, our fundraiser has taken place at St. Lawrence Hall but due to construction setbacks\, our event will now be hosted at Campbell House Museum. Due to the smaller venue capacity\, we will be offering two different ticket types\, an in-person and virtual option\, to allow for all guests to participate. Virtual guests will have access to the keynote speaker’s presentation and the silent auction. \nThe Society will mark this anniversary by diving into the captivating history of beer and the temperance movement in the Town of York and the City of Toronto\, emphasizing the changes that both sides brought to the City. The Town of York Historical Society is happy to announce our special guest and keynote speaker\, beer expert and author\, Jordan St. John\, who will provide an insightful presentation on this relevant theme.  Following the success of our 2024 fundraiser\, the Society is excited to welcome our members and guests to Campbell House Museum to celebrate this intriguing topic. We also welcome the return of the Old Town Silent Auction\, featuring donated items and experiences from neighbourhood businesses\, which will take place virtually this year\, and local craft brewers who will be on-site for the event. \nMore information on registration and ticket sales regarding Toronto’s 191st Birthday is available at AnnualFundraiserBannedandBrewed.eventbrite.ca or email info@tos1stpo.com for assistance. If you wish to join in person please do not delay as these tickets will be strictly limited and are first come first serve. We can’t wait to have you join us for this special celebration!
URL:https://ontariohistoricalsociety.ca/event/town-of-york-historical-society-annual-fundraiser-banned-brewed/
LOCATION:Campbell House Museum\, 160 Queen Street West\, Toronto\, Ontario\, M5H 3H3\, Canada
ORGANIZER;CN="Town of York Historical Society":MAILTO:info@tos1stpo.com
GEO:43.6510271;-79.3872656
X-APPLE-STRUCTURED-LOCATION;VALUE=URI;X-ADDRESS=Campbell House Museum 160 Queen Street West Toronto Ontario M5H 3H3 Canada;X-APPLE-RADIUS=500;X-TITLE=160 Queen Street West:geo:-79.3872656,43.6510271
END:VEVENT
BEGIN:VEVENT
DTSTART;TZID=America/Toronto:20250502T140000
DTEND;TZID=America/Toronto:20250502T150000
DTSTAMP:20260421T233959
CREATED:20250409T130820Z
LAST-MODIFIED:20250409T130820Z
UID:10001452-1746194400-1746198000@ontariohistoricalsociety.ca
SUMMARY:Historical Society of Ottawa Museum Club - The Bytown Fire Brigade Historical Society
DESCRIPTION:Join us on May 2 for a guided tour of equipment and artefacts related to more than 180 years of firefighting in Bytown and Ottawa! \nWhere:   \nThe Bytown Fire Brigade Historical Society \nUnit 1\, 2880 Sheffield Road\, Ottawa\, ON\, K1B 1A4 \nWhen: \nFriday\, May 2\, 2 p.m.-3 p.m. \n(Get-together afterward at the nearby Tim Horton’s for coffee) \nAdmission is free\, but donations gratefully accepted. \nAll are welcome but spaces are limited.  Pre-registration is open exclusively to HSO members and guests until April 25\, so please be sure to confirm by email by that date: \nmuseumclub@historicalsocietyottawa.ca \nTransportation not included.  Parking is available on-site and on nearby streets. \nGift shop: On-site and open. \nAccessibility: Most display areas not accessible to walkers or wheelchairs. \nSee you there!
URL:https://ontariohistoricalsociety.ca/event/historical-society-of-ottawa-museum-club-the-bytown-fire-brigade-historical-society/
LOCATION:The Bytown Fire Brigade Historical Society\, 2880 Sheffield Road\, Unit 1\, Ottawa\, Ontario\, K1B 1A4\, Canada
ORGANIZER;CN="The Historical Society of Ottawa":MAILTO:info@historicalsocietyottawa.ca
GEO:45.39628;-75.60216
X-APPLE-STRUCTURED-LOCATION;VALUE=URI;X-ADDRESS=The Bytown Fire Brigade Historical Society 2880 Sheffield Road Unit 1 Ottawa Ontario K1B 1A4 Canada;X-APPLE-RADIUS=500;X-TITLE=2880 Sheffield Road\, Unit 1:geo:-75.60216,45.39628
END:VEVENT
BEGIN:VEVENT
DTSTART;TZID=America/Toronto:20250504T120000
DTEND;TZID=America/Toronto:20250504T173000
DTSTAMP:20260421T233959
CREATED:20250409T130519Z
LAST-MODIFIED:20250414T131953Z
UID:10001451-1746360000-1746379800@ontariohistoricalsociety.ca
SUMMARY:Oakville Historical Society - Afternoon Tea at The Cottages [SOLD OUT]
DESCRIPTION:Note: Event is sold out (April 14\, 2025) \n\nIn 1840 the Duchess of Bedford introduced the custom of having a light snack in the afternoon to tide her over as dinner was served very late. The habit spread throughout the aristocracy and quickly developed into a more substantial repast. \nJoin us for “Afternoon Tea at the Cottages” on Sunday May 4.  Our costumed ladies will serve you savoury finger sandwiches\, delectable sweets\, fresh scones with cream and strawberry preserves and piping hot tea in our Spring Garden tea room. Feel free to dress up a little or a lot. Hats\, gloves and fascinators are welcome. \nWe will have three sittings at: 12:00\, 2:00 and 4:00.  In order to best make use of our limited space\, we are offering tickets in tables of four\, so bring along your Duke and/or Duchess friends and family. \nRegretfully\, the cottage is not wheelchair accessible. Children 10 years of age and older are welcome when accompanied by an adult. \nTickets:\nMembers of the Oakville Historical Society have the opportunity to purchase advance tickets directly from the Society thus avoiding the Eventbrite fee.\nTickets are $40 per person. You can pay at the office\, 110 King St on Tuesday or Thursday afternoons between 1:00-4:30 pm or by etransfer at historyoakville@gmail.com. \nPlease be sure to order in groups of 4 tickets and note in the comments your name\, email and which sitting you prefer. (12:00\, 2:00 or 4:00)\, otherwise we cannot guarantee a reservation will be held as we will not be able to send you a confirmation. \nTickets will be available to the general public Monday April 7. \nPlease go to our website at https://www.oakvillehistory.org/activities/afternoon-tea-at-the-cottages for the menu and further details\, any questions can be directed to oureventsohs@gmail.com
URL:https://ontariohistoricalsociety.ca/event/oakville-historical-society-afternoon-tea-at-the-cottages/
LOCATION:Erchless Museum\, 8 Navy St\, Oakville\, Ontario\, L6J 2Y5\, Canada
ORGANIZER;CN="Oakville Historical Society":MAILTO:information@oakvillehistory.org
GEO:43.4419196;-79.6667655
X-APPLE-STRUCTURED-LOCATION;VALUE=URI;X-ADDRESS=Erchless Museum 8 Navy St Oakville Ontario L6J 2Y5 Canada;X-APPLE-RADIUS=500;X-TITLE=8 Navy St:geo:-79.6667655,43.4419196
END:VEVENT
BEGIN:VEVENT
DTSTART;TZID=America/Toronto:20250507T190000
DTEND;TZID=America/Toronto:20250507T190000
DTSTAMP:20260421T233959
CREATED:20250507T132409Z
LAST-MODIFIED:20250507T132409Z
UID:10001458-1746644400-1746644400@ontariohistoricalsociety.ca
SUMMARY:Glencoe and District Historical Society - The Bandit of Skunk’s Misery
DESCRIPTION:Paul Langan is going to tell us about the legend of Orval Shaw—The Bandit of Skunk’s Misery.  We often hear fragments of stories and myths.  Paul has done the research.  He is going to talk about the process of collecting information for historical books and about how this booklet came together. \nOrval Shaw never killed anyone or committed any major crime\, yet from 1921 to 1934\, Orval’s life of petty crimes led to some of the most sensational police hunts to try and capture him. \nAttend at The Archives in Glencoe (might be a full house) or Join Zoom Meeting \n 
URL:https://ontariohistoricalsociety.ca/event/glencoe-and-district-historical-society-the-bandit-of-skunks-misery/
LOCATION:Glencoe and District Historical Society Archives\, 178 McKellar Street\, Glencoe\, Ontario\, N0L 1M0\, Canada
GEO:42.7492548;-81.710308
X-APPLE-STRUCTURED-LOCATION;VALUE=URI;X-ADDRESS=Glencoe and District Historical Society Archives 178 McKellar Street Glencoe Ontario N0L 1M0 Canada;X-APPLE-RADIUS=500;X-TITLE=178 McKellar Street:geo:-81.710308,42.7492548
END:VEVENT
BEGIN:VEVENT
DTSTART;TZID=America/Toronto:20250522T093000
DTEND;TZID=America/Toronto:20250522T163000
DTSTAMP:20260421T233959
CREATED:20250515T150652Z
LAST-MODIFIED:20250515T150652Z
UID:10001462-1747906200-1747931400@ontariohistoricalsociety.ca
SUMMARY:Halton Black History Awareness Society - Cultural Dynamics Leadership Training
DESCRIPTION:Following the success of our May 6th Halton Hills CDLT workshop\, the Halton Black History Awareness Society (HBHAS) is looking forward to it’s 2nd Halton Hills Cultural Dynamics Leadership Training (CDLT) Workshop on Thursday May 22nd at our Halton Hills Cultural Centre. This Halton Region free program will enhance your leadership skills while equipping you with tools to foster inclusive environments\, celebrate differences\, and drive positive change within communities. Feel free to spread the word. \nEvent Timing: Thursday May 22\, 2025\, 9:30 a.m. to 4:30 p.m. Event Address: The Studio\, Town of Halton Hills Cultural Centre: 9 Church Street\, Georgetown\, Ont.- 905-873-2600. \nContact us: hbhascdlt@gmail.com. \nCDLT Registration: www.hbhas.ca/cultural-dynamics-leadership-training \nPlease find information on our upcoming programs here.
URL:https://ontariohistoricalsociety.ca/event/halton-black-history-awareness-society-cultural-dynamics-leadership-training/
LOCATION:The Studio\, Halton Hills Cultural Centre\, 9 Church St.\, Georgetown\, Ontario\, L7G 2A3
ORGANIZER;CN="Halton Black History Awareness Society":MAILTO:hbhas2015@gmail.com
GEO:43.6481421;-79.9255228
X-APPLE-STRUCTURED-LOCATION;VALUE=URI;X-ADDRESS=The Studio Halton Hills Cultural Centre 9 Church St. Georgetown Ontario L7G 2A3;X-APPLE-RADIUS=500;X-TITLE=9 Church St.:geo:-79.9255228,43.6481421
END:VEVENT
BEGIN:VEVENT
DTSTART;TZID=America/Toronto:20250524T100000
DTEND;TZID=America/Toronto:20250524T170000
DTSTAMP:20260421T233959
CREATED:20250507T131428Z
LAST-MODIFIED:20250522T135610Z
UID:10001456-1748080800-1748106000@ontariohistoricalsociety.ca
SUMMARY:Canada Black Music Archives Presents: B’Lack Then: Muted Melodies
DESCRIPTION:The Canada Black Music Archives is shining a light on the untold stories of over 20 of Ontario’s Black Canadian artists. B’Lack Then: Muted Melodies opens May 22nd at the Archives of Ontario (AO)\, located at York University. This exhibition will explore the hidden histories of foundational Canadian music figures through a collection of vinyl’s\, instruments\, photographs\, newspaper clippings\, selected film screenings\, and discussions.\n\nB’Lack Then: Muted Melodies will be featured at this year’s Doors Open weekend. As a part of this event\, steelpan musician Pat McNeilly\, otherwise known as Pan Man Pat\, will be performing three 30-minute presentations. The Trinidadian born steelpan teacher was an instrumental figure in its establishment in Toronto schools and has been performing at the Toronto Caribbean Carnival (formerly Caribana) since its 1967 founding. His stylings will take place in between screenings of Different Timbres. The short documentary by filmmakers\, Claire Prieto and Roger McTair\, looks at steel drum production\, education\, performance\, and cultural influence in Ontario in the 1970’s and 1980’s.\n\nDoors Open is a free event that allows attendees to explore the city’s architectural\, historical\, cultural\, and socially significant buildings. The Archives of Ontario will be open from 10:00am to 5:00pm on May 24th
URL:https://ontariohistoricalsociety.ca/event/canada-black-music-archives-presents-black-then-muted-melodies/
LOCATION:Archives of Ontario\, 134 Ian Macdonald Boulevard\, Toronto\, Ontario\, M7A 2C5\, Canada
ORGANIZER;CN="Canada Black Music Archives":MAILTO:info@thecbma.com
GEO:43.7749061;-79.5005299
X-APPLE-STRUCTURED-LOCATION;VALUE=URI;X-ADDRESS=Archives of Ontario 134 Ian Macdonald Boulevard Toronto Ontario M7A 2C5 Canada;X-APPLE-RADIUS=500;X-TITLE=134 Ian Macdonald Boulevard:geo:-79.5005299,43.7749061
END:VEVENT
BEGIN:VEVENT
DTSTART;TZID=America/Toronto:20250524T100000
DTEND;TZID=America/Toronto:20250525T170000
DTSTAMP:20260421T233959
CREATED:20250507T131025Z
LAST-MODIFIED:20250507T131025Z
UID:10001455-1748080800-1748192400@ontariohistoricalsociety.ca
SUMMARY:Doors Open Toronto @ John McKenzie House
DESCRIPTION:Visit the Ontario Historical Society and the historic John McKenzie House during 2025 Doors Open Toronto. Visitors will have the chance to explore the historic house and headquarters of the OHS\, and learn how the historic building was saved by the community\, and still functions as an active community space to this day. \nThe John McKenzie House was built in 1913\, in a style described as Queen Anne Revival\, Arts and Crafts\, and Edwardian. The grand\, red brick house is profiled by a large L-shaped veranda with stylized Doric columns. Significant interior features include the centre hall plan\, a vestibule door and sidelights with beveled and leaded glass\, a large leaded art glass window that lights the landing of the main staircase\, panelled doors\, and original radiators. In 1993\, the Ontario Historical Society (OHS) entered into a partnership with the former City of North York to preserve and restore the John McKenzie House\, which serves as the provincial headquarters of the OHS.
URL:https://ontariohistoricalsociety.ca/event/doors-open-toronto-john-mckenzie-house-2-2/
LOCATION:John McKenzie House\, 34 Parkview Ave.\, North York\, Ontario\, M2N 3Y2\, Canada
ORGANIZER;CN="Ontario Historical Society":MAILTO:ohs@ontariohistoricalsociety.ca
GEO:43.771519;-79.4113408
X-APPLE-STRUCTURED-LOCATION;VALUE=URI;X-ADDRESS=John McKenzie House 34 Parkview Ave. North York Ontario M2N 3Y2 Canada;X-APPLE-RADIUS=500;X-TITLE=34 Parkview Ave.:geo:-79.4113408,43.771519
END:VEVENT
BEGIN:VEVENT
DTSTART;TZID=America/Toronto:20250524T110000
DTEND;TZID=America/Toronto:20250524T170000
DTSTAMP:20260421T233959
CREATED:20250512T174039Z
LAST-MODIFIED:20250512T174039Z
UID:10001459-1748084400-1748106000@ontariohistoricalsociety.ca
SUMMARY:Coptic Museum of Canada’s Silver Jubilee - Spring into New Beginnings
DESCRIPTION:The Coptic Museum of Canada celebrates its Silver Jubilee and joyously invites you to journey through time to experience the blossoming of Coptic cultures\, art\, and faith practices! We will experience Coptic life in Canada’s vibrant cultural mosaic\, stretching from our roots in ancient Egypt to the interwoven diversity now seeded throughout Canada. \nExperience and Explore… \nCOPTIC MUSEUM OF CANADA GALLERY AND REFERENCE LIBRARY\nCoptic Cultural Heritage. Disruptions\, Continuities\, Renewals. Featuring the history of Coptic iconography & the art of 21st century iconographers\, manuscript & books from the 18th to the 20th century”\, and the Museum’s diverse collection. \nFATHER MARCOS MARCOS (1929-2020) MEMORIAL DISPLAY\nHonouring the first Coptic priest commissioned to minister to the Copts in North America (1964) and who created the Coptic Museum in Canada. \nCHURCH TOURS\nThe first Coptic Church in Canada: History. Faith. Art. Architecture. \nCULTURAL CENTRE PROGRAM\nConversations with a Historian: Routes and Real Talk. Journey through Coptic history and culture — one conversation at a time. Coptic-Canadians in the visual arts\, music\, and the museum and gallery sectors Twenty-one inspiring stories of pioneers told on standing banners. \nWorkshop: Making Music with Bells\nA migrant’s story…. that has become a community service. \nWorkshop: Drawing and Colouring a Lotus Flower on Papyrus\nYou get to take home and enjoy your own creation!
URL:https://ontariohistoricalsociety.ca/event/coptic-museum-of-canadas-silver-jubilee-spring-into-new-beginnings/
LOCATION:Coptic Museum of Canada\, 41 Glendinning Ave.\, Scarborough\, Ontario\, M1W 3E2
ORGANIZER;CN="Coptic Museum of Canada":MAILTO:copticmuseumcanada@gmail.com
GEO:43.8118337;-79.3325187
X-APPLE-STRUCTURED-LOCATION;VALUE=URI;X-ADDRESS=Coptic Museum of Canada 41 Glendinning Ave. Scarborough Ontario M1W 3E2;X-APPLE-RADIUS=500;X-TITLE=41 Glendinning Ave.:geo:-79.3325187,43.8118337
END:VEVENT
BEGIN:VEVENT
DTSTART;TZID=America/Toronto:20250530T110000
DTEND;TZID=America/Toronto:20250530T110000
DTSTAMP:20260421T233959
CREATED:20250524T162737Z
LAST-MODIFIED:20250524T162737Z
UID:10001466-1748602800-1748602800@ontariohistoricalsociety.ca
SUMMARY:Nine Ships 1825- Bicentennial Souvenir Book Launch May 30th
DESCRIPTION:The special Bicentennial Souvenir\, a book produced by Nine Ships 1825\, is an attractive\, informative and welcome addition to our understanding of the Peter Robinson Irish Emigration of 1825. \nThe public is invited to attend the Launch of this Bicentennial Souvenir book on May 30th at 11:00 am at the Peterborough & Kawarthas Chamber of Commerce\, Board Room\, 175 George Street\, North in Peterborough. \nNine Ships 1825 is grateful to generous sponsors\, Gary and Joanne Reamey and Paschal and Sylvia McCloskey\, the Federal Government of Canada and other wonderful financial supporters. The publishing of this book was also made possible by Robert and Julie Young\, Dr. John and Denise Lyne\, Carl and Kathryn Young and Michael Battaglia Enterprises Inc.!  Robert & Julie Young  \nHear from historian Elwood Jones about how this attractive Bicentennial Souvenir has truly been a team effort. Learn how Nine Ships 1825 had support from many local community groups to develop plans to commemorate this remarkable Irish Emigration. Meet the talented graphic designer Aaron Robitaille\, who did a wonderful job of layout and design. \nIn this Souvenir you will learn about the Peter Robinson political experiment\, which recruited 2\,024 people in 307 families to prove that it was worthwhile for the British Government of the day to fully finance an 18-month emigration from a volatile area of Ireland to a fertile area of Upper Canada\, ultimately known as the Peterborough area. \nThe central piece of this Souvenir is an alphabetical listing of all the passengers who crossed on the Nine Ships commissioned by the British Government: the Fortitude\, Resolution\, Albion\, Brunswick\, Star\, Amity\, Regulus\, Elizabeth and John Barry. This is supplemented with historical notes to help place the 1825 emigration in a context of Ireland\, ocean travel\, difficulties of travel in a migration that lasted about three months\, of which the ocean saga was one month. \nThe Souvenir contains a guide to the events taking place through this Bicentennial year of 2025 as well as details of the August 1 to 10 Bicentennial Week events. \nAfter the launch the Bicentennial Souvenir will be available online at www.nineships1825.com \, at Trent Valley Archives\, 567 Carnegie Avenue\, Peterborough and at the County of Peterborough\, 470 Water Street\, Peterborough.                                                   -30- \nContact: Elwood Jones at ejones55@cogeco.ca
URL:https://ontariohistoricalsociety.ca/event/nine-ships-1825-bicentennial-souvenir-book-launch-may-30th/
LOCATION:Peterborough & Kawarthas Chamber of Commerce\, Board Room\, 175 George Street\, Peterborough\, Ontario\, K9J 3G6\, Canada
ORGANIZER;CN="Nine Ships 1825":MAILTO:nineships1825@gmail.com
GEO:44.2987676;-78.3201176
X-APPLE-STRUCTURED-LOCATION;VALUE=URI;X-ADDRESS=Peterborough & Kawarthas Chamber of Commerce Board Room 175 George Street Peterborough Ontario K9J 3G6 Canada;X-APPLE-RADIUS=500;X-TITLE=175 George Street:geo:-78.3201176,44.2987676
END:VEVENT
BEGIN:VEVENT
DTSTART;TZID=America/Toronto:20250531T110000
DTEND;TZID=America/Toronto:20250531T123000
DTSTAMP:20260421T233959
CREATED:20250331T161205Z
LAST-MODIFIED:20250331T161205Z
UID:10001449-1748689200-1748694600@ontariohistoricalsociety.ca
SUMMARY:Streetsville Historical Society Spring Historical Tour at the Oakville Museum
DESCRIPTION:We will meet at the United Church street parking lot at 10:15 a.m. \n\nIf you need a ride or if you are driving directly to Oakville please let Anne Byard know at (905) 814-5958 or cell (416) 799-6223\nIf you wish to have lunch together after the tour please register with Anne. Anne has booked The Kings Arms\, 323 Church St. Oakville. Time 1:00 p.m. (905)-845-1010.\n\n\nTour information \n\nA Guided Tour through Historic Erchless Estate\nAn Orientation to the Freedom Opportunity exhibits on Oakville Black History\nViewing the next stop to Freedom MultiMedia Presentation 20 min sit down\nA self-guided visit through our temporary exhibitions included\nStairs to upstairs
URL:https://ontariohistoricalsociety.ca/event/streetsville-historical-society-spring-historical-tour-at-the-oakville-museum/
LOCATION:Erchless Museum\, 8 Navy St\, Oakville\, Ontario\, L6J 2Y5\, Canada
ORGANIZER;CN="Streetsville Historical Society":MAILTO:mbyard@sympatico.ca
GEO:43.4419196;-79.6667655
X-APPLE-STRUCTURED-LOCATION;VALUE=URI;X-ADDRESS=Erchless Museum 8 Navy St Oakville Ontario L6J 2Y5 Canada;X-APPLE-RADIUS=500;X-TITLE=8 Navy St:geo:-79.6667655,43.4419196
END:VEVENT
END:VCALENDAR