BEGIN:VCALENDAR
VERSION:2.0
PRODID:-//The Ontario Historical Society - ECPv6.15.20//NONSGML v1.0//EN
CALSCALE:GREGORIAN
METHOD:PUBLISH
X-ORIGINAL-URL:https://ontariohistoricalsociety.ca
X-WR-CALDESC:Events for The Ontario Historical Society
REFRESH-INTERVAL;VALUE=DURATION:PT1H
X-Robots-Tag:noindex
X-PUBLISHED-TTL:PT1H
BEGIN:VTIMEZONE
TZID:America/Toronto
BEGIN:DAYLIGHT
TZOFFSETFROM:-0500
TZOFFSETTO:-0400
TZNAME:EDT
DTSTART:20200308T070000
END:DAYLIGHT
BEGIN:STANDARD
TZOFFSETFROM:-0400
TZOFFSETTO:-0500
TZNAME:EST
DTSTART:20201101T060000
END:STANDARD
BEGIN:DAYLIGHT
TZOFFSETFROM:-0500
TZOFFSETTO:-0400
TZNAME:EDT
DTSTART:20210314T070000
END:DAYLIGHT
BEGIN:STANDARD
TZOFFSETFROM:-0400
TZOFFSETTO:-0500
TZNAME:EST
DTSTART:20211107T060000
END:STANDARD
BEGIN:DAYLIGHT
TZOFFSETFROM:-0500
TZOFFSETTO:-0400
TZNAME:EDT
DTSTART:20220313T070000
END:DAYLIGHT
BEGIN:STANDARD
TZOFFSETFROM:-0400
TZOFFSETTO:-0500
TZNAME:EST
DTSTART:20221106T060000
END:STANDARD
END:VTIMEZONE
BEGIN:VEVENT
DTSTART;TZID=America/Toronto:20210303T190000
DTEND;TZID=America/Toronto:20210303T190000
DTSTAMP:20260425T140626
CREATED:20210114T215202Z
LAST-MODIFIED:20210114T215202Z
UID:10000215-1614798000-1614798000@ontariohistoricalsociety.ca
SUMMARY:Kingston Historical Society Presents Marc Seguin: "The Lighthouses of Kingston: Guiding Ships through the Graveyard of Lake Ontario\, 1828 to 1914"
DESCRIPTION:Throughout the 19th century\, Kingston was the most important shipping port on the Great Lakes and ships sailing to or from Lake Ontario had to navigate through some of the world’s most dangerous waters\, an area that became known as “the graveyard of Lake Ontario.” Over the course of 85 years\, more than 45 lighthouses were built on the Canadian side of eastern Lake Ontario. These aids to navigation contributed immeasurably to the prosperity of Kingston and to the economic development of Canada. This talk is drawn from the speaker’s book For Want of a Lighthouse: Guiding Ships Through the Graveyard of Lake Ontario. \nMarc Seguin brings his lifelong interest in history together with a passion for Canada’s built heritage to this talk on the early lighthouses of Kingston and eastern Lake Ontario. Marc holds a degree in history from the University of Western Ontario and is a founding member of the lighthouse preservation organization “Save Our Lighthouses.” He has authored two books focusing on Lake Ontario: For Want of a Lighthouse: Guiding Ships through the Graveyard of Lake Ontario & The Cruise of The Breeze: The Journal and Life of a Victorian Soldier in Canada. Marc lives on the shores of Wellers Bay in Prince Edward County with his wife and two sons. Please visit his website at ontariohistory.ca. \nTo register\, and to receive all the details of how to connect\, please email Paul van Nest at pvannest@cogeco.ca.
URL:https://ontariohistoricalsociety.ca/event/kingston-historical-society-presents-marc-seguin/
LOCATION:online
ORGANIZER;CN="Kingston Historical Society":MAILTO:kingstonhs@gmail.com
GEO:56.130366;-106.346771
END:VEVENT
BEGIN:VEVENT
DTSTART;TZID=America/Toronto:20210306T193000
DTEND;TZID=America/Toronto:20210306T210000
DTSTAMP:20260425T140626
CREATED:20210223T211852Z
LAST-MODIFIED:20210223T211852Z
UID:10000224-1615059000-1615064400@ontariohistoricalsociety.ca
SUMMARY:Town of York Historical Society: The Old Town Revue: A Love Letter to Toronto
DESCRIPTION:Gather online to celebrate Toronto’s 187th birthday with an ode to our wonderful city! \nEmceed by popular local historian Bruce Bell\, the evening will be in the form of a revue with a top-notch array of entertainers all coming together to celebrate our city. \nPlease see this website for further details: https://www.eventbrite.ca/e/the-old-town-revue-a-love-letter-to-toronto-tickets-137865979857.
URL:https://ontariohistoricalsociety.ca/event/town-of-york-historical-society-the-old-town-revue-a-love-letter-to-toronto/
LOCATION:online
ORGANIZER;CN="Town of York Historical Society":MAILTO:info@tos1stpo.com
GEO:56.130366;-106.346771
END:VEVENT
BEGIN:VEVENT
DTSTART;TZID=America/Toronto:20210311T190000
DTEND;TZID=America/Toronto:20210311T190000
DTSTAMP:20260425T140626
CREATED:20210217T164518Z
LAST-MODIFIED:20210217T164518Z
UID:10000222-1615489200-1615489200@ontariohistoricalsociety.ca
SUMMARY:Friends of Wesleyville Village 2020 AGM
DESCRIPTION:
URL:https://ontariohistoricalsociety.ca/event/friends-of-wesleyville-village-2020-agm/
LOCATION:online
ORGANIZER;CN="Friends of Wesleyville Village":MAILTO:friendsofwesleyvillevillage@gmail.com
GEO:56.130366;-106.346771
END:VEVENT
BEGIN:VEVENT
DTSTART;TZID=America/Toronto:20210311T190000
DTEND;TZID=America/Toronto:20210311T201500
DTSTAMP:20260425T140626
CREATED:20210223T213902Z
LAST-MODIFIED:20210223T214224Z
UID:10000226-1615489200-1615493700@ontariohistoricalsociety.ca
SUMMARY:Myseum of Toronto Presents "Making Space: Stories of Disabled Youth in the GTA (Part One)"
DESCRIPTION:Making Space: Stories of Disabled Youth in the GTA is a two-part online storytelling event series exploring the past and present experiences of disabled and chronically ill youth growing up in Toronto. Featuring personal narratives and artwork\, this program is a space for recognition\, solidarity\, and celebration\, exploring how the landscape for disabled youth has shifted over time. \nFor more information please visit this website: http://www.myseumoftoronto.com/programming/making-space-stories-of-disabled-youth-part-one/ \n 
URL:https://ontariohistoricalsociety.ca/event/myseum-of-toronto-presents-making-space-stories-of-disabled-youth-in-the-gta-part-one/
LOCATION:online
ORGANIZER;CN="Myseum of Toronto":MAILTO:info@myseumoftoronto.com
GEO:56.130366;-106.346771
END:VEVENT
BEGIN:VEVENT
DTSTART;VALUE=DATE:20210316
DTEND;VALUE=DATE:20210317
DTSTAMP:20260425T140626
CREATED:20201202T203952Z
LAST-MODIFIED:20201202T203952Z
UID:10000211-1615852800-1615939199@ontariohistoricalsociety.ca
SUMMARY:Peterborough Historical Society March 2021 Talk
DESCRIPTION:PHS Monthly Meetings and Speakers Program go Virtual \nIn face of the challenges and continued risks of resuming on-site monthly meetings\, we have decided instead to produce monthly virtual PHS Talks that may be viewed on the YouTube channel of Hutchison House Museum. The plan is to schedule them to be posted on the third Tuesday of the month\, the traditional date of the regular monthly meetings. Notices of the talks will be publicized in the usual manner\, including on this webpage. \nMarch 2021: Dennis Carter-Edwards\, “The Peterborough County House of Refuge: Caring for the Elderly Poor 1907-1921”
URL:https://ontariohistoricalsociety.ca/event/peterborough-historical-society-march-2021-talk/
LOCATION:online
ORGANIZER;CN="Peterborough Historical Society":MAILTO:info@peterboroughhistoricalsociety.ca
GEO:56.130366;-106.346771
END:VEVENT
BEGIN:VEVENT
DTSTART;TZID=America/Toronto:20210318T190000
DTEND;TZID=America/Toronto:20210318T201500
DTSTAMP:20260425T140626
CREATED:20210223T214138Z
LAST-MODIFIED:20210223T214138Z
UID:10000227-1616094000-1616098500@ontariohistoricalsociety.ca
SUMMARY:Myseum of Toronto Presents "Making Space: Stories of Disabled Youth in the GTA (Part Two)"
DESCRIPTION:Making Space: Stories of Disabled Youth in the GTA is a two-part online storytelling event series exploring the past and present experiences of disabled and chronically ill youth growing up in Toronto. Featuring personal narratives and artwork\, this program is a space for recognition\, solidarity\, and celebration\, exploring how the landscape for disabled youth has shifted over time. \nFor more information please visit this website: http://www.myseumoftoronto.com/programming/making-space-stories-of-disabled-youth-part-two/
URL:https://ontariohistoricalsociety.ca/event/myseum-of-toronto-presents-making-space-stories-of-disabled-youth-in-the-gta-part-two/
LOCATION:online
ORGANIZER;CN="Myseum of Toronto":MAILTO:info@myseumoftoronto.com
GEO:56.130366;-106.346771
END:VEVENT
BEGIN:VEVENT
DTSTART;TZID=America/Toronto:20210323T200000
DTEND;TZID=America/Toronto:20210323T200000
DTSTAMP:20260425T140626
CREATED:20210311T151302Z
LAST-MODIFIED:20210311T151302Z
UID:10000229-1616529600-1616529600@ontariohistoricalsociety.ca
SUMMARY:Thunder Bay Museum Free Public Lecture: 100th Anniversary of Chippewa Park
DESCRIPTION:CLICK HERE to watch the free webinar!\nUse Passcode: 876261 \nDescription: \nChippewa Park is celebrating its 100th Anniversary of the official opening of the park in 1921. The presentation will provide a snapshot of the last 100 years along with a glint into its future. The presentation will also highlight the restoration work undertaken by the organization especially the recent work in the restoration of the 106 year old C.W. Parker Carousel. \nSpeaker Bio: \nIain Angus is the Secretary and Project Manager for The Friends of Chippewa Park. He has a background in public service including being elected to all three orders of Government as well as working for both the Recreation and Parks departments of the City of Thunder Bay. As a consultant he developed feasibility studies for a number of municipalities and First Nations in the Northwest as well as conducting transportation and forest operation research. He is a founding director of The Friends of Chippewa Park and considers the park his ‘neighborhood’ as he was raised at the park as his family operated the Tourist Camp from 1945 to 1970. \nThis lecture session is part of a the Society’s long tradition of holding free public lectures. Talks on a wide range of topics are held on the fourth Tuesday of each month at the Thunder Bay Museum from September to April. When the lectures are able to be held in person light refreshments are served after the speaker’s presentation. \n2020-2021 Thunder Bay Museum lecture series is sponsored by the Lakehead University Department of History.
URL:https://ontariohistoricalsociety.ca/event/thunder-bay-museum-free-public-lecture-100th-anniversary-of-chippewa-park/
LOCATION:online
ORGANIZER;CN="Thunder Bay Museum":MAILTO:info@thunderbaymuseum.com
GEO:56.130366;-106.346771
END:VEVENT
BEGIN:VEVENT
DTSTART;TZID=America/Toronto:20210324T150000
DTEND;TZID=America/Toronto:20210324T150000
DTSTAMP:20260425T140626
CREATED:20210312T172431Z
LAST-MODIFIED:20210312T172431Z
UID:10000231-1616598000-1616598000@ontariohistoricalsociety.ca
SUMMARY:Hastings County Historical Society Presents\, "For a Better Life: Post-War Dutch Immigration to Canada"
DESCRIPTION:The Hastings County Historical Society and the Belleville Public Library will be presenting by Zoom on Wednesday\, March 24\, 2021 at 3:00 p.m. “For a Better Life: Post-War Dutch Immigration to Canada’ by Napanee author\, John Immerseel. \nBeginning in 1947\, almost 500 000 Dutch emigrants left the Netherlands. Nearly 200 000 arrived in Canada. The situation in Holland\, reasons for emigrating\, and the challenges facing the many families as they sought to rebuild their lives will be examined. \nRegister at: https://us02web.zoom.us/webinar/register/WN_DuHbzus1RsCv6F2y5bQdaw
URL:https://ontariohistoricalsociety.ca/event/hastings-county-historical-society-presents-for-a-better-life-post-war-dutch-immigration-to-canada/
LOCATION:online
ORGANIZER;CN="Hastings County Historical Society":MAILTO:president@hastingshistory.ca
GEO:56.130366;-106.346771
END:VEVENT
BEGIN:VEVENT
DTSTART;TZID=America/Toronto:20210324T190000
DTEND;TZID=America/Toronto:20210324T190000
DTSTAMP:20260425T140626
CREATED:20210304T183047Z
LAST-MODIFIED:20210304T183239Z
UID:10000230-1616612400-1616612400@ontariohistoricalsociety.ca
SUMMARY:North York Historical Society March 2021 Meeting: "Yonge Street in the Rear View Mirror"
DESCRIPTION:The North York Historical Society is pleased to present “Yonge Street in the Rear View Mirror.” \nYonge Street\, the most iconic street in Canada. This famous artery has weaved a tapestry of history along its path for over 200 years. The North York Historical Society is pleased to bring you “Yonge Street in the Rear View Mirror.” A journey along the path from dirt to gravel\, from horses to cars\, to discover the many hidden stories of Yonge Street’s past and how life along this thoroughfare shaped North York through the years transforming it to the township\, city and borough that it is today. \nWhen: Wednesday March 24\, 2021\, at 7:00 PM Eastern Time \nWhere: Online by Zoom \nPresenter: Marla Weingarten\, North York Historical Society \nPlease register in advance for this meeting (no payment is required):\nhttps://zoom.us/meeting/register/tJUpf-urrDorEtET_gt87-mQJd6MqRwftaoG \nAfter registering\, you will receive a confirmation email containing information about joining the meeting.
URL:https://ontariohistoricalsociety.ca/event/north-york-historical-society-march-2021-meeting-yonge-street-in-the-rear-view-mirror/
LOCATION:online
ORGANIZER;CN="North York Historical Society":MAILTO:info@nyhs.ca
GEO:56.130366;-106.346771
END:VEVENT
BEGIN:VEVENT
DTSTART;VALUE=DATE:20210325
DTEND;VALUE=DATE:20210327
DTSTAMP:20260425T140626
CREATED:20210224T160545Z
LAST-MODIFIED:20210224T160610Z
UID:10000228-1616630400-1616803199@ontariohistoricalsociety.ca
SUMMARY:OMA Indigenous Collections Symposium 2021
DESCRIPTION:The Ontario Museum Association Indigenous Collections Symposium: Mashkawatgong mamawewiziwin – Strengthening our bonds\, sharing our practices will be presented online on March 25-26\, 2021\, with a pre-symposium event on March 24\, 2021. \nJoin us at our dynamic event platform for a gathering designed to support and connect museum professionals from Indigenous and non-Indigenous organizations! \nThe virtual Symposium features: \n\nTwo full days of interactive sessions by leading thinkers and practitioners\, a keynote presentation by Jisgang Nika Collison and group discussions at the end of each day.\nExclusive access to session recordings for 3 months.\nThe opportunity to sign up for the March 24th Strengthening Our Bonds Networking Event hosted by the Indigenous Internship Program at the Canadian Museum of History.\n\nWe look forward to welcoming you online! \nPlease register here: https://members.museumsontario.ca/programs-events/current-initiatives/indigenous-collections-symposium-2021
URL:https://ontariohistoricalsociety.ca/event/oma-indigenous-collections-symposium-2021/
LOCATION:online
GEO:56.130366;-106.346771
END:VEVENT
END:VCALENDAR