BEGIN:VCALENDAR
VERSION:2.0
PRODID:-//The Ontario Historical Society - ECPv6.15.20//NONSGML v1.0//EN
CALSCALE:GREGORIAN
METHOD:PUBLISH
X-WR-CALNAME:The Ontario Historical Society
X-ORIGINAL-URL:https://ontariohistoricalsociety.ca
X-WR-CALDESC:Events for The Ontario Historical Society
REFRESH-INTERVAL;VALUE=DURATION:PT1H
X-Robots-Tag:noindex
X-PUBLISHED-TTL:PT1H
BEGIN:VTIMEZONE
TZID:America/Toronto
BEGIN:DAYLIGHT
TZOFFSETFROM:-0500
TZOFFSETTO:-0400
TZNAME:EDT
DTSTART:20200308T070000
END:DAYLIGHT
BEGIN:STANDARD
TZOFFSETFROM:-0400
TZOFFSETTO:-0500
TZNAME:EST
DTSTART:20201101T060000
END:STANDARD
BEGIN:DAYLIGHT
TZOFFSETFROM:-0500
TZOFFSETTO:-0400
TZNAME:EDT
DTSTART:20210314T070000
END:DAYLIGHT
BEGIN:STANDARD
TZOFFSETFROM:-0400
TZOFFSETTO:-0500
TZNAME:EST
DTSTART:20211107T060000
END:STANDARD
BEGIN:DAYLIGHT
TZOFFSETFROM:-0500
TZOFFSETTO:-0400
TZNAME:EDT
DTSTART:20220313T070000
END:DAYLIGHT
BEGIN:STANDARD
TZOFFSETFROM:-0400
TZOFFSETTO:-0500
TZNAME:EST
DTSTART:20221106T060000
END:STANDARD
END:VTIMEZONE
BEGIN:VEVENT
DTSTART;VALUE=DATE:20210216
DTEND;VALUE=DATE:20210217
DTSTAMP:20260425T154626
CREATED:20201202T203823Z
LAST-MODIFIED:20201202T203823Z
UID:10000210-1613433600-1613519999@ontariohistoricalsociety.ca
SUMMARY:Peterborough Historical Society February 2021 Talk
DESCRIPTION:PHS Monthly Meetings and Speakers Program go Virtual \nIn face of the challenges and continued risks of resuming on-site monthly meetings\, we have decided instead to produce monthly virtual PHS Talks that may be viewed on the YouTube channel of Hutchison House Museum. The plan is to schedule them to be posted on the third Tuesday of the month\, the traditional date of the regular monthly meetings. Notices of the talks will be publicized in the usual manner\, including on this webpage. \nFebruary 2021: Erin Panepinto\, “‘These are a Few of My Favourite Things’: An Inside Look at Select Artifacts from the Hutchinson House Collection”
URL:https://ontariohistoricalsociety.ca/event/peterborough-historical-society-february-2021-talk/
LOCATION:online
ORGANIZER;CN="Peterborough Historical Society":MAILTO:info@peterboroughhistoricalsociety.ca
GEO:56.130366;-106.346771
END:VEVENT
BEGIN:VEVENT
DTSTART;TZID=America/Toronto:20210217T190000
DTEND;TZID=America/Toronto:20210217T190000
DTSTAMP:20260425T154626
CREATED:20210114T212949Z
LAST-MODIFIED:20210114T212949Z
UID:10000216-1613588400-1613588400@ontariohistoricalsociety.ca
SUMMARY:Kingston Historical Society Presents Victoria Cosby: "Kingston through Her Eyes: Harriett Dobbs Cartwright and Her Adopted Home"
DESCRIPTION:Harriett Dobbs Cartwright emigrated from Dublin. Ireland to Upper Canada upon her marriage to Anglican minister Robert David Cartwright in 1832. Her voluminous correspondence chronicles her active engagement in the local affairs of her new ‘home’ in the colony of Upper Canada: as a wife\, as a mother\, and as a social activist. Cartwright played an incredibly important role in Kingston’s upper class community. She volunteered in the Female Benevolent Society and Orphans’ and Widows’ Friend Society\, through which she contributed to the establishment of such major Kingston institutions as Kingston General Hospital\, St. George’s Anglican Church\, the Kingston Penitentiary\, and Rockwood Asylum for the Insane. Harriett Dobbs Cartwright’s contributions to the community have had a lasting impact on the city of Kingston as we know it today. \nVictoria Crosby is a fourth year doctoral student in the Queen’s History Department. Her research interests include nineteenth-century Canadian women\, the British World\, as well as gender and sexuality studies. She is currently working on a biography of Harriett Dobbs Cartwright. \nTo register\, and to receive all the details of how to connect\, please email Paul van Nest at pvannest@cogeco.ca.
URL:https://ontariohistoricalsociety.ca/event/kingston-historical-society-presents-victoria-cosby/
LOCATION:online
ORGANIZER;CN="Kingston Historical Society":MAILTO:kingstonhs@gmail.com
GEO:56.130366;-106.346771
END:VEVENT
BEGIN:VEVENT
DTSTART;TZID=America/Toronto:20210223T193000
DTEND;TZID=America/Toronto:20210223T193000
DTSTAMP:20260425T154626
CREATED:20210205T151915Z
LAST-MODIFIED:20210205T151915Z
UID:10000221-1614108600-1614108600@ontariohistoricalsociety.ca
SUMMARY:Thunder Bay Museum Presents "Black Business: An Evening with Local Black Women that are Leaders in Business"
DESCRIPTION:Free Public Lecture – The Caribbean African Multicultural Association of Thunder Bay (CAMAT) Presents Black Business: An Evening with Local Black Women that are leaders in Business \nFree to view and will be recorded and posted to the Thunder Bay Museum’s YouTube at a later date. \nPlease join us with our partners from the Caribbean African Multicultural Association of Thunder Bay (CAMAT) for a Free Public Lecture featuring a panel of local black women that are leaders in business. \nPanelists: \n\nAnnette Pateman – Local Author\nShannon Skinner – Co-owner of Salonki Salon & Ethnic Beauty Supply\nSharon Bon – Owner of Dame Mas Dance Dance Studio\nAnnissea Hopkins – Co-Owner of Superior Hearing\nLiliane Honorine Breiland – Owner of The African Boutique Thunder Bay\n\nThis lecture session is part of a the Society’s long tradition of holding free public lectures. Talks on a wide range of topics are held on the fourth Tuesday of each month at the Thunder Bay Museum from September to April. When the lectures are able to be held in person light refreshments are served after the speaker’s presentation. \n2020-2021 Thunder Bay Museum lecture series is sponsored by the Lakehead University Department of History.
URL:https://ontariohistoricalsociety.ca/event/thunder-bay-museum-presents-black-business/
LOCATION:online
ORGANIZER;CN="Thunder Bay Museum":MAILTO:info@thunderbaymuseum.com
GEO:56.130366;-106.346771
END:VEVENT
BEGIN:VEVENT
DTSTART;TZID=America/Toronto:20210225T190000
DTEND;TZID=America/Toronto:20210225T190000
DTSTAMP:20260425T154626
CREATED:20210218T153919Z
LAST-MODIFIED:20210218T153919Z
UID:10000223-1614279600-1614279600@ontariohistoricalsociety.ca
SUMMARY:Bruce County Historical Society Presents "British Home Children: Sharing the Stories"
DESCRIPTION:
URL:https://ontariohistoricalsociety.ca/event/bruce-county-historical-society-presents-british-home-children-sharing-the-stories/
LOCATION:online
ORGANIZER;CN="Bruce County Historical Society":MAILTO:bchsregister@gmail.com
GEO:56.130366;-106.346771
END:VEVENT
BEGIN:VEVENT
DTSTART;TZID=America/Toronto:20210225T190000
DTEND;TZID=America/Toronto:20210225T211500
DTSTAMP:20260425T154626
CREATED:20210223T212735Z
LAST-MODIFIED:20210223T212735Z
UID:10000225-1614279600-1614287700@ontariohistoricalsociety.ca
SUMMARY:Myseum of Toronto Presents "Beyond Just Words: A Land Acknowledgement Workshop"
DESCRIPTION:A participatory workshop that explores our relationship(s) to land acknowledgements and re-evaluates how we can make them more meaningful. \nYou’ve heard them before. From attending an event in the city\, or hearing one online you hear: “Welcome\, thank you for coming”\, a brief land acknowledgement read from their phone is recited for the one hundredth time\, and finally housekeeping notes before the event begins. And while what land acknowledgements represent are beyond important\, they can often feel impersonal and superficial. \nJoin facilitators Leslie McCue and Lindy Kinoshameg for this virtual “hands on” participatory workshop where you will learn: \nThe history of agreements and treaties that were made and broken. \n\nPronunciations of Nations.\nExamining who you are\, and your relationship with the land that sustains you.\nYou will have the opportunity to work independently and in small groups (Zoom breakout rooms) to explore\, research\, and develop a more meaningful connection when you are acknowledging and caring for this land.\n\nThis workshop aims to not only help you look beyond your current relationship with land acknowledgements\, but realize deeper possibilities for them; enhancing your appreciation for and understanding of Indigenous histories and cultures. \nWhile this workshop provides some necessary knowledge and resources\, it is intended to be an entry point into lifelong learning. \nFor more information\, please visit this website: https://www.eventbrite.ca/e/beyond-just-words-a-land-acknowledgement-workshop-tickets-141885269661.
URL:https://ontariohistoricalsociety.ca/event/myseum-of-toronto-presents-beyond-just-words/
LOCATION:online
ORGANIZER;CN="Myseum of Toronto":MAILTO:info@myseumoftoronto.com
GEO:56.130366;-106.346771
END:VEVENT
END:VCALENDAR