BEGIN:VCALENDAR
VERSION:2.0
PRODID:-//The Ontario Historical Society - ECPv6.15.20//NONSGML v1.0//EN
CALSCALE:GREGORIAN
METHOD:PUBLISH
X-WR-CALNAME:The Ontario Historical Society
X-ORIGINAL-URL:https://ontariohistoricalsociety.ca
X-WR-CALDESC:Events for The Ontario Historical Society
REFRESH-INTERVAL;VALUE=DURATION:PT1H
X-Robots-Tag:noindex
X-PUBLISHED-TTL:PT1H
BEGIN:VTIMEZONE
TZID:America/Toronto
BEGIN:DAYLIGHT
TZOFFSETFROM:-0500
TZOFFSETTO:-0400
TZNAME:EDT
DTSTART:20250309T070000
END:DAYLIGHT
BEGIN:STANDARD
TZOFFSETFROM:-0400
TZOFFSETTO:-0500
TZNAME:EST
DTSTART:20251102T060000
END:STANDARD
BEGIN:DAYLIGHT
TZOFFSETFROM:-0500
TZOFFSETTO:-0400
TZNAME:EDT
DTSTART:20260308T070000
END:DAYLIGHT
BEGIN:STANDARD
TZOFFSETFROM:-0400
TZOFFSETTO:-0500
TZNAME:EST
DTSTART:20261101T060000
END:STANDARD
BEGIN:DAYLIGHT
TZOFFSETFROM:-0500
TZOFFSETTO:-0400
TZNAME:EDT
DTSTART:20270314T070000
END:DAYLIGHT
BEGIN:STANDARD
TZOFFSETFROM:-0400
TZOFFSETTO:-0500
TZNAME:EST
DTSTART:20271107T060000
END:STANDARD
END:VTIMEZONE
BEGIN:VEVENT
DTSTART;TZID=America/Toronto:20260425T133000
DTEND;TZID=America/Toronto:20260425T133000
DTSTAMP:20260425T154611
CREATED:20260108T202837Z
LAST-MODIFIED:20260108T202837Z
UID:10001663-1777123800-1777123800@ontariohistoricalsociety.ca
SUMMARY:The Historical Society of Ottawa: The Era of Bytown
DESCRIPTION:Guest Speaker: James Powell\, Author\, “Today in Ottawa’s History” Blog\n\nDetails\nA Special Bytown200 Presentation \nLong before realizing our destiny of becoming Canada’s capital\, we were a rough and tumble backwoods lumber town.  As we mark 2026\, the Bicentenary of the establishment of Bytown\, James Powell takes us back to when it all began. \nAdmission is free. All are welcome to attend.
URL:https://ontariohistoricalsociety.ca/event/the-historical-society-of-ottawa-the-era-of-bytown/
LOCATION:Ottawa Public Library\, Main Branch\, 120 Metcalfe St.\, Ottawa\, Ontario\, K1P 5M2\, Canada
ORGANIZER;CN="The Historical Society of Ottawa":MAILTO:info@historicalsocietyottawa.ca
GEO:45.420388;-75.6954878
X-APPLE-STRUCTURED-LOCATION;VALUE=URI;X-ADDRESS=Ottawa Public Library Main Branch 120 Metcalfe St. Ottawa Ontario K1P 5M2 Canada;X-APPLE-RADIUS=500;X-TITLE=120 Metcalfe St.:geo:-75.6954878,45.420388
END:VEVENT
BEGIN:VEVENT
DTSTART;TZID=America/Toronto:20260425T140000
DTEND;TZID=America/Toronto:20260425T160000
DTSTAMP:20260425T154611
CREATED:20260304T152744Z
LAST-MODIFIED:20260304T152744Z
UID:10001695-1777125600-1777132800@ontariohistoricalsociety.ca
SUMMARY:Culinary Historians of Canada - Explore menus with Nathalie Cooke
DESCRIPTION:What’s on the Menu?\nTastes\, Traditions and Tantalizing Questions\nExplore Menus with Nathalie Cooke \nJoin us for an appetizing exploration of why menus matter and the stories they tell us today. We will come to menus belatedly\, after the dishes have been washed up\, so to speak. So in her exploration of ways that menus matter\, in this talk and in her book Tastes and Traditions (2025)\, Nathalie keeps at least two audiences in mind: diners of the menus’ moment and we who look at menus from distances spanning years\, even continents and linguistic divides. In this discussion for the Culinary Historians of Canada\, Nathalie will offer some menus that befuddle and delight\, and also ask us to scrutinize the menu from The Canadian Pavilion at Expo ’67\, challenging us to consider what it told diners in 1967 about Canadian cuisine. \nSaturday\, April 25\, 2026\nCampbell House Museum\nToronto\, ON\n2:00-4:00 pm\n(in-person event only) \nTickets available through Eventbrite\n$17.55 – $25.00 plus service fee \nAbout Nathalie Cooke \nNathalie Cooke is an English professor at McGill University\, a specialist in Canadian literature\, literary food studies and material culture. She is member of the Royal Society of Canada and an honorary lifetime member of the Culinary Historians of Canada. Nathalie is editor of What’s to Eat? Entrées into Canadian Food History (MQUP)\, founding editor of CuiZine: The Journal of Canadian Food Cultures (Érudit)\, co-editor with Fiona Lucas of Catharine Parr Traill’s The Female Emigrant’s Guide\, Cooking with a Canadian Classic (Carleton Library Series)\, and author of Tastes and Traditions: A Journey Through Menu History (Reaktion\, 2025). Her recent research uncovers hidden stories told by menus\, textiles\, and other everyday artefacts\, revealing how their forms\, codes\, and designs shape what we remember\, and how we read.
URL:https://ontariohistoricalsociety.ca/event/culinary-historians-of-canada-explore-menus-with-nathalie-cooke/
LOCATION:Campbell House Museum\, 160 Queen Street West\, Toronto\, Ontario\, M5H 3H3\, Canada
ORGANIZER;CN="Culinary Historians of Canada":MAILTO:info@culinaryhistorians.ca
GEO:43.6510271;-79.3872656
X-APPLE-STRUCTURED-LOCATION;VALUE=URI;X-ADDRESS=Campbell House Museum 160 Queen Street West Toronto Ontario M5H 3H3 Canada;X-APPLE-RADIUS=500;X-TITLE=160 Queen Street West:geo:-79.3872656,43.6510271
END:VEVENT
BEGIN:VEVENT
DTSTART;TZID=America/Toronto:20260425T190000
DTEND;TZID=America/Toronto:20260425T190000
DTSTAMP:20260425T154611
CREATED:20260420T131206Z
LAST-MODIFIED:20260420T131206Z
UID:10001727-1777143600-1777143600@ontariohistoricalsociety.ca
SUMMARY:Nine Ships 1825 - "Irish and Canadian": An Evening of History\, Heritage and Music
DESCRIPTION:Nine Ships is pleased to support an exciting event in Douro on Saturday\, April 25 at 7pm! Head out to St. Joseph’s Parish Hall for an evening of history\, heritage and music featuring a presentation from Patrick Leahy entitled “Irish and Canadian: Irish Identity in Times of Conflict\,” live music from the Kitchen Party Band and a discussion about new research projects underway in 2026.\n\nAdmission is $5 at the door and both refreshments and a cash bar will be available. If you have any questions or would like to learn more about the event\, please call 705-927-3126 or email pat.leahy17@gmail.com.\n\nWe hope you’ll join us for a memorable evening!
URL:https://ontariohistoricalsociety.ca/event/nine-ships-1825-irish-and-canadian-an-evening-of-history-heritage-and-music/
LOCATION:St. Joseph’s Parish Hall\, 300 County Rd 8\, Douro\, ON\, K0L 2H0\, Canada
ORGANIZER;CN="Nine Ships 1825":MAILTO:nineships1825@gmail.com
END:VEVENT
END:VCALENDAR